BEGIN:VCALENDAR
VERSION:2.0
PRODID:-//Parroquia Los Remedios - ECPv6.15.17//NONSGML v1.0//EN
CALSCALE:GREGORIAN
METHOD:PUBLISH
X-ORIGINAL-URL:https://parroquialosremediosyaiza.org
X-WR-CALDESC:Eventos para Parroquia Los Remedios
REFRESH-INTERVAL;VALUE=DURATION:PT1H
X-Robots-Tag:noindex
X-PUBLISHED-TTL:PT1H
BEGIN:VTIMEZONE
TZID:Europe/London
BEGIN:DAYLIGHT
TZOFFSETFROM:+0000
TZOFFSETTO:+0100
TZNAME:BST
DTSTART:20200329T010000
END:DAYLIGHT
BEGIN:STANDARD
TZOFFSETFROM:+0100
TZOFFSETTO:+0000
TZNAME:GMT
DTSTART:20201025T010000
END:STANDARD
BEGIN:DAYLIGHT
TZOFFSETFROM:+0000
TZOFFSETTO:+0100
TZNAME:BST
DTSTART:20210328T010000
END:DAYLIGHT
BEGIN:STANDARD
TZOFFSETFROM:+0100
TZOFFSETTO:+0000
TZNAME:GMT
DTSTART:20211031T010000
END:STANDARD
BEGIN:DAYLIGHT
TZOFFSETFROM:+0000
TZOFFSETTO:+0100
TZNAME:BST
DTSTART:20220327T010000
END:DAYLIGHT
BEGIN:STANDARD
TZOFFSETFROM:+0100
TZOFFSETTO:+0000
TZNAME:GMT
DTSTART:20221030T010000
END:STANDARD
END:VTIMEZONE
BEGIN:VEVENT
DTSTART;VALUE=DATE:20210510
DTEND;VALUE=DATE:20210511
DTSTAMP:20260423T091355
CREATED:20210429T110450Z
LAST-MODIFIED:20210429T110450Z
UID:4227-1620604800-1620691199@parroquialosremediosyaiza.org
SUMMARY:San Juan de Ávila
DESCRIPTION:
URL:https://parroquialosremediosyaiza.org/evento/san-juan-de-avila/
CATEGORIES:Santoral
END:VEVENT
BEGIN:VEVENT
DTSTART;VALUE=DATE:20210509
DTEND;VALUE=DATE:20210510
DTSTAMP:20260423T091355
CREATED:20210429T105902Z
LAST-MODIFIED:20210429T105902Z
UID:4225-1620518400-1620604799@parroquialosremediosyaiza.org
SUMMARY:VI  PASCUA y Santa Luisa de Marillac
DESCRIPTION:MISAS 10 y 19:30 Playa Blanca – 12 h. Yaiza – 18 h. Femés
URL:https://parroquialosremediosyaiza.org/evento/vi-pascua-y-santa-luisa-de-marillac/
CATEGORIES:Santoral
END:VEVENT
BEGIN:VEVENT
DTSTART;VALUE=DATE:20210508
DTEND;VALUE=DATE:20210509
DTSTAMP:20260423T091355
CREATED:20210429T105758Z
LAST-MODIFIED:20210429T105758Z
UID:4223-1620432000-1620518399@parroquialosremediosyaiza.org
SUMMARY:Nuestra Señora de la Salud
DESCRIPTION:MISAS:  UGA  a las  18 h. –  LAS BREÑAS  a las 19.30 h.
URL:https://parroquialosremediosyaiza.org/evento/nuestra-senora-de-la-salud/
CATEGORIES:Santoral
END:VEVENT
BEGIN:VEVENT
DTSTART;VALUE=DATE:20210507
DTEND;VALUE=DATE:20210508
DTSTAMP:20260423T091355
CREATED:20210429T105555Z
LAST-MODIFIED:20210429T105555Z
UID:4221-1620345600-1620431999@parroquialosremediosyaiza.org
SUMMARY:Nuestra Señora de la Victoria
DESCRIPTION:
URL:https://parroquialosremediosyaiza.org/evento/nuestra-senora-de-la-victoria/
CATEGORIES:Santoral
END:VEVENT
BEGIN:VEVENT
DTSTART;VALUE=DATE:20210506
DTEND;VALUE=DATE:20210507
DTSTAMP:20260423T091355
CREATED:20210429T105402Z
LAST-MODIFIED:20210429T105402Z
UID:4219-1620259200-1620345599@parroquialosremediosyaiza.org
SUMMARY:Santo Domingo Savio
DESCRIPTION:Despacho 17:30 h – MISA-ORACIÓN  19 h. Yaiza
URL:https://parroquialosremediosyaiza.org/evento/santo-domingo-savio/
CATEGORIES:Santoral
END:VEVENT
BEGIN:VEVENT
DTSTART;VALUE=DATE:20210505
DTEND;VALUE=DATE:20210506
DTSTAMP:20260423T091355
CREATED:20210429T105318Z
LAST-MODIFIED:20210429T105318Z
UID:4217-1620172800-1620259199@parroquialosremediosyaiza.org
SUMMARY:Nuestra Señora de Gracia
DESCRIPTION:
URL:https://parroquialosremediosyaiza.org/evento/nuestra-senora-de-gracia/
CATEGORIES:Santoral
END:VEVENT
BEGIN:VEVENT
DTSTART;VALUE=DATE:20210504
DTEND;VALUE=DATE:20210505
DTSTAMP:20260423T091355
CREATED:20210429T105233Z
LAST-MODIFIED:20210429T105233Z
UID:4215-1620086400-1620172799@parroquialosremediosyaiza.org
SUMMARY:San José María Rubio
DESCRIPTION:MISA y ORACIÓN 19:30 h. Playa Blanca
URL:https://parroquialosremediosyaiza.org/evento/san-jose-maria-rubio/
CATEGORIES:Santoral
END:VEVENT
BEGIN:VEVENT
DTSTART;VALUE=DATE:20210503
DTEND;VALUE=DATE:20210504
DTSTAMP:20260423T091355
CREATED:20210429T105152Z
LAST-MODIFIED:20210429T105152Z
UID:4213-1620000000-1620086399@parroquialosremediosyaiza.org
SUMMARY:Stos.  Felipe y Santiago.\, Alejandro I
DESCRIPTION:
URL:https://parroquialosremediosyaiza.org/evento/stos-felipe-y-santiago-alejandro-i/
CATEGORIES:Santoral
END:VEVENT
BEGIN:VEVENT
DTSTART;VALUE=DATE:20210502
DTEND;VALUE=DATE:20210503
DTSTAMP:20260423T091355
CREATED:20210429T104949Z
LAST-MODIFIED:20210429T104949Z
UID:4211-1619913600-1619999999@parroquialosremediosyaiza.org
SUMMARY:V  PASCUA - San Atanasio
DESCRIPTION:MISAS 10 – 19:30 h. Playa Blanca – 12 h. Yaiza  – 18 h. Femés
URL:https://parroquialosremediosyaiza.org/evento/v-pascua-san-atanasio/
CATEGORIES:Santoral
END:VEVENT
BEGIN:VEVENT
DTSTART;VALUE=DATE:20210501
DTEND;VALUE=DATE:20210502
DTSTAMP:20260423T091355
CREATED:20210429T104851Z
LAST-MODIFIED:20210429T104851Z
UID:4209-1619827200-1619913599@parroquialosremediosyaiza.org
SUMMARY:San José Obrero
DESCRIPTION:MISAS: UGA  a las  18 h. –  LAS BREÑAS  a las 19.30 h.
URL:https://parroquialosremediosyaiza.org/evento/san-jose-obrero/
CATEGORIES:Santoral
END:VEVENT
BEGIN:VEVENT
DTSTART;VALUE=DATE:20210430
DTEND;VALUE=DATE:20210501
DTSTAMP:20260423T091355
CREATED:20210323T103405Z
LAST-MODIFIED:20210323T103405Z
UID:4203-1619740800-1619827199@parroquialosremediosyaiza.org
SUMMARY:San Pío V
DESCRIPTION:
URL:https://parroquialosremediosyaiza.org/evento/san-pio-v/
CATEGORIES:Santoral
END:VEVENT
BEGIN:VEVENT
DTSTART;VALUE=DATE:20210429
DTEND;VALUE=DATE:20210430
DTSTAMP:20260423T091355
CREATED:20210323T103329Z
LAST-MODIFIED:20210323T103338Z
UID:4200-1619654400-1619740799@parroquialosremediosyaiza.org
SUMMARY:Santa Catalina de Siena
DESCRIPTION:Despacho 17:30h.  MISA-FORMACIÓN 19h. Yaiza
URL:https://parroquialosremediosyaiza.org/evento/santa-catalina-de-siena/
CATEGORIES:Santoral
END:VEVENT
BEGIN:VEVENT
DTSTART;VALUE=DATE:20210428
DTEND;VALUE=DATE:20210429
DTSTAMP:20260423T091355
CREATED:20210323T103254Z
LAST-MODIFIED:20210323T103254Z
UID:4198-1619568000-1619654399@parroquialosremediosyaiza.org
SUMMARY:San Pedro Chanel y San Luis Mª Grignion de Monfort
DESCRIPTION:
URL:https://parroquialosremediosyaiza.org/evento/san-pedro-chanel-y-san-luis-ma-grignion-de-monfort/
CATEGORIES:Santoral
END:VEVENT
BEGIN:VEVENT
DTSTART;VALUE=DATE:20210427
DTEND;VALUE=DATE:20210428
DTSTAMP:20260423T091355
CREATED:20210323T103156Z
LAST-MODIFIED:20210323T103156Z
UID:4196-1619481600-1619567999@parroquialosremediosyaiza.org
SUMMARY:Rafael Arnaiz y Virgen de Monserrat
DESCRIPTION:MISA y FORMACIÓN  19:30 h. P. Blanca
URL:https://parroquialosremediosyaiza.org/evento/rafael-arnaiz-y-virgen-de-monserrat/
CATEGORIES:Santoral
END:VEVENT
BEGIN:VEVENT
DTSTART;VALUE=DATE:20210426
DTEND;VALUE=DATE:20210427
DTSTAMP:20260423T091355
CREATED:20210323T103122Z
LAST-MODIFIED:20210323T103122Z
UID:4194-1619395200-1619481599@parroquialosremediosyaiza.org
SUMMARY:Nuestra Señora del Buen Consejo y San Isidoro de Sevilla
DESCRIPTION:
URL:https://parroquialosremediosyaiza.org/evento/nuestra-senora-del-buen-consejo-y-san-isidoro-de-sevilla/
CATEGORIES:Santoral
END:VEVENT
BEGIN:VEVENT
DTSTART;VALUE=DATE:20210425
DTEND;VALUE=DATE:20210426
DTSTAMP:20260423T091355
CREATED:20210323T103040Z
LAST-MODIFIED:20210323T103040Z
UID:4192-1619308800-1619395199@parroquialosremediosyaiza.org
SUMMARY:IV PASCUA
DESCRIPTION:MISAS 10- 19:30h. P. Blanca-12h. Yaiza 18 h. Femés
URL:https://parroquialosremediosyaiza.org/evento/iv-pascua/
CATEGORIES:Santoral
END:VEVENT
BEGIN:VEVENT
DTSTART;VALUE=DATE:20210424
DTEND;VALUE=DATE:20210425
DTSTAMP:20260423T091355
CREATED:20210323T103009Z
LAST-MODIFIED:20210323T103009Z
UID:4190-1619222400-1619308799@parroquialosremediosyaiza.org
SUMMARY:San Fidel de Sigmaringa
DESCRIPTION:MISAS:  18 h.  Uga  y  19:30 h. Las Breñas               
URL:https://parroquialosremediosyaiza.org/evento/san-fidel-de-sigmaringa/
CATEGORIES:Santoral
END:VEVENT
BEGIN:VEVENT
DTSTART;VALUE=DATE:20210423
DTEND;VALUE=DATE:20210424
DTSTAMP:20260423T091355
CREATED:20210323T102934Z
LAST-MODIFIED:20210323T102934Z
UID:4188-1619136000-1619222399@parroquialosremediosyaiza.org
SUMMARY:San Jorge y San Adalberto
DESCRIPTION:
URL:https://parroquialosremediosyaiza.org/evento/san-jorge-y-san-adalberto/
CATEGORIES:Santoral
END:VEVENT
BEGIN:VEVENT
DTSTART;VALUE=DATE:20210422
DTEND;VALUE=DATE:20210423
DTSTAMP:20260423T091355
CREATED:20210323T102858Z
LAST-MODIFIED:20210323T102858Z
UID:4186-1619049600-1619135999@parroquialosremediosyaiza.org
SUMMARY:San Cayo y San Sotero
DESCRIPTION:Despacho 17:30 h.  MISA-ORACIÓN 19 h. Yaiza
URL:https://parroquialosremediosyaiza.org/evento/san-cayo-y-san-sotero/
CATEGORIES:Santoral
END:VEVENT
BEGIN:VEVENT
DTSTART;VALUE=DATE:20210421
DTEND;VALUE=DATE:20210422
DTSTAMP:20260423T091355
CREATED:20210323T102811Z
LAST-MODIFIED:20210323T102811Z
UID:4184-1618963200-1619049599@parroquialosremediosyaiza.org
SUMMARY:San Anselm de Canterbury
DESCRIPTION:
URL:https://parroquialosremediosyaiza.org/evento/san-anselm-de-canterbury/
CATEGORIES:Santoral
END:VEVENT
BEGIN:VEVENT
DTSTART;VALUE=DATE:20210420
DTEND;VALUE=DATE:20210421
DTSTAMP:20260423T091355
CREATED:20210323T102747Z
LAST-MODIFIED:20210323T102747Z
UID:4182-1618876800-1618963199@parroquialosremediosyaiza.org
SUMMARY:San Telmo
DESCRIPTION:MISA-ORACIÓN 19:30 h. Playa Blanca
URL:https://parroquialosremediosyaiza.org/evento/san-telmo/
CATEGORIES:Santoral
END:VEVENT
BEGIN:VEVENT
DTSTART;VALUE=DATE:20210419
DTEND;VALUE=DATE:20210420
DTSTAMP:20260423T091355
CREATED:20210323T102634Z
LAST-MODIFIED:20210323T102634Z
UID:4180-1618790400-1618876799@parroquialosremediosyaiza.org
SUMMARY:San León IX
DESCRIPTION:
URL:https://parroquialosremediosyaiza.org/evento/san-leon-ix/
CATEGORIES:Santoral
END:VEVENT
BEGIN:VEVENT
DTSTART;VALUE=DATE:20210418
DTEND;VALUE=DATE:20210419
DTSTAMP:20260423T091355
CREATED:20210323T102550Z
LAST-MODIFIED:20210323T102550Z
UID:4178-1618704000-1618790399@parroquialosremediosyaiza.org
SUMMARY:III  PASCUA y San Apolonio
DESCRIPTION:MISAS 10- 19:30h. P. Blanca-12h. Yaiza – 18 h. Femés
URL:https://parroquialosremediosyaiza.org/evento/iii-pascua-y-san-apolonio/
CATEGORIES:Santoral
END:VEVENT
BEGIN:VEVENT
DTSTART;VALUE=DATE:20210417
DTEND;VALUE=DATE:20210418
DTSTAMP:20260423T091355
CREATED:20210323T102513Z
LAST-MODIFIED:20210323T102513Z
UID:4176-1618617600-1618703999@parroquialosremediosyaiza.org
SUMMARY:Bta. María Ana de Jesús
DESCRIPTION:MISAS: 18 h.  Uga y 19:30 h. Las Breñas               
URL:https://parroquialosremediosyaiza.org/evento/bta-maria-ana-de-jesus/
CATEGORIES:Santoral
END:VEVENT
BEGIN:VEVENT
DTSTART;VALUE=DATE:20210416
DTEND;VALUE=DATE:20210417
DTSTAMP:20260423T091355
CREATED:20210323T102328Z
LAST-MODIFIED:20210323T102328Z
UID:4174-1618531200-1618617599@parroquialosremediosyaiza.org
SUMMARY:Santa Bernardita Soubirous
DESCRIPTION:
URL:https://parroquialosremediosyaiza.org/evento/santa-bernardita-soubirous/
CATEGORIES:Santoral
END:VEVENT
BEGIN:VEVENT
DTSTART;VALUE=DATE:20210415
DTEND;VALUE=DATE:20210416
DTSTAMP:20260423T091355
CREATED:20210323T102301Z
LAST-MODIFIED:20210323T102301Z
UID:4172-1618444800-1618531199@parroquialosremediosyaiza.org
SUMMARY:San César
DESCRIPTION:Despacho 17:30\nMISA-FORMACIÓN 19 h. Yaiza
URL:https://parroquialosremediosyaiza.org/evento/san-cesar/
CATEGORIES:Santoral
END:VEVENT
BEGIN:VEVENT
DTSTART;VALUE=DATE:20210414
DTEND;VALUE=DATE:20210415
DTSTAMP:20260423T091355
CREATED:20210323T102220Z
LAST-MODIFIED:20210323T102220Z
UID:4170-1618358400-1618444799@parroquialosremediosyaiza.org
SUMMARY:San Camilo de Lelis
DESCRIPTION:
URL:https://parroquialosremediosyaiza.org/evento/san-camilo-de-lelis/
CATEGORIES:Santoral
END:VEVENT
BEGIN:VEVENT
DTSTART;VALUE=DATE:20210413
DTEND;VALUE=DATE:20210414
DTSTAMP:20260423T091355
CREATED:20210323T102142Z
LAST-MODIFIED:20210323T102142Z
UID:4168-1618272000-1618358399@parroquialosremediosyaiza.org
SUMMARY:San Hermenegildo
DESCRIPTION:MISA y FORMACIÓN 19:30 h. Playa Blanca
URL:https://parroquialosremediosyaiza.org/evento/san-hermenegildo/
CATEGORIES:Santoral
END:VEVENT
BEGIN:VEVENT
DTSTART;VALUE=DATE:20210412
DTEND;VALUE=DATE:20210413
DTSTAMP:20260423T091355
CREATED:20210323T102102Z
LAST-MODIFIED:20210323T102102Z
UID:4166-1618185600-1618271999@parroquialosremediosyaiza.org
SUMMARY:San Constantino\, Santa Teresa de Jesús de los Andes y San Julio I
DESCRIPTION:
URL:https://parroquialosremediosyaiza.org/evento/san-constantino-santa-teresa-de-jesus-de-los-andes-y-san-julio-i/
CATEGORIES:Santoral
END:VEVENT
BEGIN:VEVENT
DTSTART;VALUE=DATE:20210411
DTEND;VALUE=DATE:20210412
DTSTAMP:20260423T091355
CREATED:20210323T102006Z
LAST-MODIFIED:20210323T102006Z
UID:4164-1618099200-1618185599@parroquialosremediosyaiza.org
SUMMARY:II  PASCUA
DESCRIPTION:MISAS 10-19:30h. Playa Blanca -12h. Yaiza-18 h. Femés
URL:https://parroquialosremediosyaiza.org/evento/ii-pascua/
CATEGORIES:Santoral
END:VEVENT
END:VCALENDAR