BEGIN:VCALENDAR
VERSION:2.0
PRODID:-//Parroquia Los Remedios - ECPv6.15.17//NONSGML v1.0//EN
CALSCALE:GREGORIAN
METHOD:PUBLISH
X-ORIGINAL-URL:https://parroquialosremediosyaiza.org
X-WR-CALDESC:Eventos para Parroquia Los Remedios
REFRESH-INTERVAL;VALUE=DURATION:PT1H
X-Robots-Tag:noindex
X-PUBLISHED-TTL:PT1H
BEGIN:VTIMEZONE
TZID:Europe/London
BEGIN:DAYLIGHT
TZOFFSETFROM:+0000
TZOFFSETTO:+0100
TZNAME:BST
DTSTART:20200329T010000
END:DAYLIGHT
BEGIN:STANDARD
TZOFFSETFROM:+0100
TZOFFSETTO:+0000
TZNAME:GMT
DTSTART:20201025T010000
END:STANDARD
BEGIN:DAYLIGHT
TZOFFSETFROM:+0000
TZOFFSETTO:+0100
TZNAME:BST
DTSTART:20210328T010000
END:DAYLIGHT
BEGIN:STANDARD
TZOFFSETFROM:+0100
TZOFFSETTO:+0000
TZNAME:GMT
DTSTART:20211031T010000
END:STANDARD
BEGIN:DAYLIGHT
TZOFFSETFROM:+0000
TZOFFSETTO:+0100
TZNAME:BST
DTSTART:20220327T010000
END:DAYLIGHT
BEGIN:STANDARD
TZOFFSETFROM:+0100
TZOFFSETTO:+0000
TZNAME:GMT
DTSTART:20221030T010000
END:STANDARD
END:VTIMEZONE
BEGIN:VEVENT
DTSTART;VALUE=DATE:20210416
DTEND;VALUE=DATE:20210417
DTSTAMP:20260423T120438
CREATED:20210323T102328Z
LAST-MODIFIED:20210323T102328Z
UID:4174-1618531200-1618617599@parroquialosremediosyaiza.org
SUMMARY:Santa Bernardita Soubirous
DESCRIPTION:
URL:https://parroquialosremediosyaiza.org/evento/santa-bernardita-soubirous/
CATEGORIES:Santoral
END:VEVENT
BEGIN:VEVENT
DTSTART;VALUE=DATE:20210415
DTEND;VALUE=DATE:20210416
DTSTAMP:20260423T120438
CREATED:20210323T102301Z
LAST-MODIFIED:20210323T102301Z
UID:4172-1618444800-1618531199@parroquialosremediosyaiza.org
SUMMARY:San César
DESCRIPTION:Despacho 17:30\nMISA-FORMACIÓN 19 h. Yaiza
URL:https://parroquialosremediosyaiza.org/evento/san-cesar/
CATEGORIES:Santoral
END:VEVENT
BEGIN:VEVENT
DTSTART;VALUE=DATE:20210414
DTEND;VALUE=DATE:20210415
DTSTAMP:20260423T120438
CREATED:20210323T102220Z
LAST-MODIFIED:20210323T102220Z
UID:4170-1618358400-1618444799@parroquialosremediosyaiza.org
SUMMARY:San Camilo de Lelis
DESCRIPTION:
URL:https://parroquialosremediosyaiza.org/evento/san-camilo-de-lelis/
CATEGORIES:Santoral
END:VEVENT
BEGIN:VEVENT
DTSTART;VALUE=DATE:20210413
DTEND;VALUE=DATE:20210414
DTSTAMP:20260423T120438
CREATED:20210323T102142Z
LAST-MODIFIED:20210323T102142Z
UID:4168-1618272000-1618358399@parroquialosremediosyaiza.org
SUMMARY:San Hermenegildo
DESCRIPTION:MISA y FORMACIÓN 19:30 h. Playa Blanca
URL:https://parroquialosremediosyaiza.org/evento/san-hermenegildo/
CATEGORIES:Santoral
END:VEVENT
BEGIN:VEVENT
DTSTART;VALUE=DATE:20210412
DTEND;VALUE=DATE:20210413
DTSTAMP:20260423T120438
CREATED:20210323T102102Z
LAST-MODIFIED:20210323T102102Z
UID:4166-1618185600-1618271999@parroquialosremediosyaiza.org
SUMMARY:San Constantino\, Santa Teresa de Jesús de los Andes y San Julio I
DESCRIPTION:
URL:https://parroquialosremediosyaiza.org/evento/san-constantino-santa-teresa-de-jesus-de-los-andes-y-san-julio-i/
CATEGORIES:Santoral
END:VEVENT
BEGIN:VEVENT
DTSTART;VALUE=DATE:20210411
DTEND;VALUE=DATE:20210412
DTSTAMP:20260423T120438
CREATED:20210323T102006Z
LAST-MODIFIED:20210323T102006Z
UID:4164-1618099200-1618185599@parroquialosremediosyaiza.org
SUMMARY:II  PASCUA
DESCRIPTION:MISAS 10-19:30h. Playa Blanca -12h. Yaiza-18 h. Femés
URL:https://parroquialosremediosyaiza.org/evento/ii-pascua/
CATEGORIES:Santoral
END:VEVENT
BEGIN:VEVENT
DTSTART;VALUE=DATE:20210410
DTEND;VALUE=DATE:20210411
DTSTAMP:20260423T120438
CREATED:20210323T101928Z
LAST-MODIFIED:20210323T101928Z
UID:4162-1618012800-1618099199@parroquialosremediosyaiza.org
SUMMARY:San Ezequiel
DESCRIPTION:MISAS:18 h.  Uga  y  19:30 h. Las Breñas
URL:https://parroquialosremediosyaiza.org/evento/san-ezequiel/
CATEGORIES:Santoral
END:VEVENT
BEGIN:VEVENT
DTSTART;VALUE=DATE:20210409
DTEND;VALUE=DATE:20210410
DTSTAMP:20260423T120438
CREATED:20210323T101844Z
LAST-MODIFIED:20210323T101844Z
UID:4160-1617926400-1618012799@parroquialosremediosyaiza.org
SUMMARY:Santa Casilda
DESCRIPTION:
URL:https://parroquialosremediosyaiza.org/evento/santa-casilda/
CATEGORIES:Santoral
END:VEVENT
BEGIN:VEVENT
DTSTART;VALUE=DATE:20210408
DTEND;VALUE=DATE:20210409
DTSTAMP:20260423T120438
CREATED:20210323T101804Z
LAST-MODIFIED:20210323T101804Z
UID:4158-1617840000-1617926399@parroquialosremediosyaiza.org
SUMMARY:Nuestra Señora del Puerto
DESCRIPTION:Despacho 17:30h. \nMISA y ORACIÓN  19h. Yaiza
URL:https://parroquialosremediosyaiza.org/evento/nuestra-senora-del-puerto/
CATEGORIES:Santoral
END:VEVENT
BEGIN:VEVENT
DTSTART;VALUE=DATE:20210407
DTEND;VALUE=DATE:20210408
DTSTAMP:20260423T120438
CREATED:20210323T101645Z
LAST-MODIFIED:20210323T101645Z
UID:4155-1617753600-1617839999@parroquialosremediosyaiza.org
SUMMARY:San Juan Bautista de la Salle
DESCRIPTION:
URL:https://parroquialosremediosyaiza.org/evento/san-juan-bautista-de-la-salle/
CATEGORIES:Santoral
END:VEVENT
BEGIN:VEVENT
DTSTART;VALUE=DATE:20210406
DTEND;VALUE=DATE:20210407
DTSTAMP:20260423T120438
CREATED:20210323T101612Z
LAST-MODIFIED:20210323T101712Z
UID:4153-1617667200-1617753599@parroquialosremediosyaiza.org
SUMMARY:San Celestino I
DESCRIPTION:MISA y ORACIÓN 19:30 h. Playa Blanca
URL:https://parroquialosremediosyaiza.org/evento/san-celestino-i/
CATEGORIES:Santoral
END:VEVENT
BEGIN:VEVENT
DTSTART;VALUE=DATE:20210405
DTEND;VALUE=DATE:20210406
DTSTAMP:20260423T120438
CREATED:20210323T101442Z
LAST-MODIFIED:20210323T101442Z
UID:4151-1617580800-1617667199@parroquialosremediosyaiza.org
SUMMARY:San Vicente Ferrer
DESCRIPTION:
URL:https://parroquialosremediosyaiza.org/evento/san-vicente-ferrer/
CATEGORIES:Santoral
END:VEVENT
BEGIN:VEVENT
DTSTART;VALUE=DATE:20210404
DTEND;VALUE=DATE:20210405
DTSTAMP:20260423T120438
CREATED:20210323T101411Z
LAST-MODIFIED:20210323T101411Z
UID:4149-1617494400-1617580799@parroquialosremediosyaiza.org
SUMMARY:Domingo Resurreción
DESCRIPTION:MISA 10 y 19:30 h. Playa Blanca – 12 h. Yaiza- 18 h. Femés
URL:https://parroquialosremediosyaiza.org/evento/domingo-resurrecion/
CATEGORIES:Santoral
END:VEVENT
BEGIN:VEVENT
DTSTART;VALUE=DATE:20210403
DTEND;VALUE=DATE:20210404
DTSTAMP:20260423T120438
CREATED:20210323T101337Z
LAST-MODIFIED:20210323T101337Z
UID:4147-1617408000-1617494399@parroquialosremediosyaiza.org
SUMMARY:Sábado Santo
DESCRIPTION:VIGILIA PASCUAL:\n18 h. Yaiza -20 h. Playa Blanca
URL:https://parroquialosremediosyaiza.org/evento/sabado-santo/
CATEGORIES:Santoral
END:VEVENT
BEGIN:VEVENT
DTSTART;VALUE=DATE:20210402
DTEND;VALUE=DATE:20210403
DTSTAMP:20260423T120438
CREATED:20210323T101253Z
LAST-MODIFIED:20210323T101253Z
UID:4145-1617321600-1617407999@parroquialosremediosyaiza.org
SUMMARY:Viernes Santo
DESCRIPTION:MUERTE SEÑOR:\n18 h. Yaiza y  20 h. Playa Blanca
URL:https://parroquialosremediosyaiza.org/evento/viernes-santo/
CATEGORIES:Santoral
END:VEVENT
BEGIN:VEVENT
DTSTART;VALUE=DATE:20210401
DTEND;VALUE=DATE:20210402
DTSTAMP:20260423T120438
CREATED:20210323T101215Z
LAST-MODIFIED:20210323T101215Z
UID:4143-1617235200-1617321599@parroquialosremediosyaiza.org
SUMMARY:Jueves Santo
DESCRIPTION:MISA 18 h. Yaiza y  20 h. Playa Blanca
URL:https://parroquialosremediosyaiza.org/evento/jueves-santo/
CATEGORIES:Santoral
END:VEVENT
BEGIN:VEVENT
DTSTART;VALUE=DATE:20210331
DTEND;VALUE=DATE:20210401
DTSTAMP:20260423T120438
CREATED:20210224T103132Z
LAST-MODIFIED:20210224T103132Z
UID:4112-1617148800-1617235199@parroquialosremediosyaiza.org
SUMMARY:Miércoles Santo
DESCRIPTION:
URL:https://parroquialosremediosyaiza.org/evento/miercoles-santo/
CATEGORIES:Santoral
END:VEVENT
BEGIN:VEVENT
DTSTART;VALUE=DATE:20210330
DTEND;VALUE=DATE:20210331
DTSTAMP:20260423T120438
CREATED:20210224T103103Z
LAST-MODIFIED:20210224T103103Z
UID:4110-1617062400-1617148799@parroquialosremediosyaiza.org
SUMMARY:Martes Santo
DESCRIPTION:MISA y VIACRUCIS 19:30h.  Playa Blanca
URL:https://parroquialosremediosyaiza.org/evento/martes-santo/
CATEGORIES:Santoral
END:VEVENT
BEGIN:VEVENT
DTSTART;VALUE=DATE:20210329
DTEND;VALUE=DATE:20210330
DTSTAMP:20260423T120438
CREATED:20210224T103015Z
LAST-MODIFIED:20210224T103015Z
UID:4108-1616976000-1617062399@parroquialosremediosyaiza.org
SUMMARY:Lunes Santo
DESCRIPTION:
URL:https://parroquialosremediosyaiza.org/evento/lunes-santo/
CATEGORIES:Santoral
END:VEVENT
BEGIN:VEVENT
DTSTART;VALUE=DATE:20210328
DTEND;VALUE=DATE:20210329
DTSTAMP:20260423T120438
CREATED:20210224T102944Z
LAST-MODIFIED:20210224T102944Z
UID:4106-1616889600-1616975999@parroquialosremediosyaiza.org
SUMMARY:Domingo de Ramos y San Doroteo
DESCRIPTION:MISAS 10 y 19:30 Playa  Blanca-12 h.  Yaiza
URL:https://parroquialosremediosyaiza.org/evento/domingo-de-ramos-y-san-doroteo/
CATEGORIES:Santoral
END:VEVENT
BEGIN:VEVENT
DTSTART;VALUE=DATE:20210327
DTEND;VALUE=DATE:20210328
DTSTAMP:20260423T120438
CREATED:20210224T102846Z
LAST-MODIFIED:20210224T102846Z
UID:4104-1616803200-1616889599@parroquialosremediosyaiza.org
SUMMARY:San Ruperto de Worms
DESCRIPTION:MISA 18 h. Uga  -19:30  Las Breñas
URL:https://parroquialosremediosyaiza.org/evento/san-ruperto-de-worms/
CATEGORIES:Santoral
END:VEVENT
BEGIN:VEVENT
DTSTART;VALUE=DATE:20210326
DTEND;VALUE=DATE:20210327
DTSTAMP:20260423T120438
CREATED:20210224T102556Z
LAST-MODIFIED:20210224T102556Z
UID:4102-1616716800-1616803199@parroquialosremediosyaiza.org
SUMMARY:San Braulio de Zaragoza
DESCRIPTION:MISA 19:30 h. Playa Blanca
URL:https://parroquialosremediosyaiza.org/evento/san-braulio-de-zaragoza/
CATEGORIES:Santoral
END:VEVENT
BEGIN:VEVENT
DTSTART;VALUE=DATE:20210325
DTEND;VALUE=DATE:20210326
DTSTAMP:20260423T120438
CREATED:20210224T102508Z
LAST-MODIFIED:20210224T102508Z
UID:4100-1616630400-1616716799@parroquialosremediosyaiza.org
SUMMARY:Anunciación del Señor
DESCRIPTION:Despacho 17:30 MISA-ORACIÓN 19h. Yaiza
URL:https://parroquialosremediosyaiza.org/evento/anunciacion-del-senor/
CATEGORIES:Santoral
END:VEVENT
BEGIN:VEVENT
DTSTART;VALUE=DATE:20210324
DTEND;VALUE=DATE:20210325
DTSTAMP:20260423T120438
CREATED:20210224T102321Z
LAST-MODIFIED:20210224T102321Z
UID:4098-1616544000-1616630399@parroquialosremediosyaiza.org
SUMMARY:San Oscar Romero
DESCRIPTION:
URL:https://parroquialosremediosyaiza.org/evento/san-oscar-romero/
CATEGORIES:Santoral
END:VEVENT
BEGIN:VEVENT
DTSTART;VALUE=DATE:20210323
DTEND;VALUE=DATE:20210324
DTSTAMP:20260423T120438
CREATED:20210224T102244Z
LAST-MODIFIED:20210224T102244Z
UID:4096-1616457600-1616543999@parroquialosremediosyaiza.org
SUMMARY:San Toribio
DESCRIPTION:MISA y VIACRUCIS 19:30h.  Playa Blanca
URL:https://parroquialosremediosyaiza.org/evento/san-toribio/
CATEGORIES:Santoral
END:VEVENT
BEGIN:VEVENT
DTSTART;VALUE=DATE:20210322
DTEND;VALUE=DATE:20210323
DTSTAMP:20260423T120438
CREATED:20210224T102149Z
LAST-MODIFIED:20210224T102149Z
UID:4094-1616371200-1616457599@parroquialosremediosyaiza.org
SUMMARY:San Zacarías
DESCRIPTION:
URL:https://parroquialosremediosyaiza.org/evento/san-zacarias/
CATEGORIES:Santoral
END:VEVENT
BEGIN:VEVENT
DTSTART;VALUE=DATE:20210321
DTEND;VALUE=DATE:20210322
DTSTAMP:20260423T120438
CREATED:20210224T102111Z
LAST-MODIFIED:20210224T102111Z
UID:4092-1616284800-1616371199@parroquialosremediosyaiza.org
SUMMARY:V CUARESMA
DESCRIPTION:MISAS 10 -19.30h.  Playa  Blanca- 12 h Yaiza
URL:https://parroquialosremediosyaiza.org/evento/v-cuaresma/
CATEGORIES:Santoral
END:VEVENT
BEGIN:VEVENT
DTSTART;VALUE=DATE:20210320
DTEND;VALUE=DATE:20210321
DTSTAMP:20260423T120438
CREATED:20210224T101750Z
LAST-MODIFIED:20210224T101750Z
UID:4090-1616198400-1616284799@parroquialosremediosyaiza.org
SUMMARY:Santa Eufemia
DESCRIPTION:
URL:https://parroquialosremediosyaiza.org/evento/santa-eufemia/
CATEGORIES:Santoral
END:VEVENT
BEGIN:VEVENT
DTSTART;VALUE=DATE:20210319
DTEND;VALUE=DATE:20210320
DTSTAMP:20260423T120438
CREATED:20210224T101421Z
LAST-MODIFIED:20210224T104139Z
UID:4088-1616112000-1616198399@parroquialosremediosyaiza.org
SUMMARY:San José
DESCRIPTION:MISAS 18h.  Yaiza -19:30 h. Playa Blanca
URL:https://parroquialosremediosyaiza.org/evento/san-jose/
CATEGORIES:Santoral
END:VEVENT
BEGIN:VEVENT
DTSTART;VALUE=DATE:20210318
DTEND;VALUE=DATE:20210319
DTSTAMP:20260423T120438
CREATED:20210224T101323Z
LAST-MODIFIED:20210224T101323Z
UID:4086-1616025600-1616111999@parroquialosremediosyaiza.org
SUMMARY:San Cirilo de Jerusalén
DESCRIPTION:Despacho 17:30h. MISA y VIACRUCIS 19 Yaiza  
URL:https://parroquialosremediosyaiza.org/evento/san-cirilo-de-jerusalen/
CATEGORIES:Santoral
END:VEVENT
END:VCALENDAR