BEGIN:VCALENDAR
VERSION:2.0
PRODID:-//Parroquia Los Remedios - ECPv6.15.17//NONSGML v1.0//EN
CALSCALE:GREGORIAN
METHOD:PUBLISH
X-ORIGINAL-URL:https://parroquialosremediosyaiza.org
X-WR-CALDESC:Eventos para Parroquia Los Remedios
REFRESH-INTERVAL;VALUE=DURATION:PT1H
X-Robots-Tag:noindex
X-PUBLISHED-TTL:PT1H
BEGIN:VTIMEZONE
TZID:Europe/London
BEGIN:DAYLIGHT
TZOFFSETFROM:+0000
TZOFFSETTO:+0100
TZNAME:BST
DTSTART:20200329T010000
END:DAYLIGHT
BEGIN:STANDARD
TZOFFSETFROM:+0100
TZOFFSETTO:+0000
TZNAME:GMT
DTSTART:20201025T010000
END:STANDARD
BEGIN:DAYLIGHT
TZOFFSETFROM:+0000
TZOFFSETTO:+0100
TZNAME:BST
DTSTART:20210328T010000
END:DAYLIGHT
BEGIN:STANDARD
TZOFFSETFROM:+0100
TZOFFSETTO:+0000
TZNAME:GMT
DTSTART:20211031T010000
END:STANDARD
BEGIN:DAYLIGHT
TZOFFSETFROM:+0000
TZOFFSETTO:+0100
TZNAME:BST
DTSTART:20220327T010000
END:DAYLIGHT
BEGIN:STANDARD
TZOFFSETFROM:+0100
TZOFFSETTO:+0000
TZNAME:GMT
DTSTART:20221030T010000
END:STANDARD
END:VTIMEZONE
BEGIN:VEVENT
DTSTART;VALUE=DATE:20210323
DTEND;VALUE=DATE:20210324
DTSTAMP:20260425T130918
CREATED:20210224T102244Z
LAST-MODIFIED:20210224T102244Z
UID:4096-1616457600-1616543999@parroquialosremediosyaiza.org
SUMMARY:San Toribio
DESCRIPTION:MISA y VIACRUCIS 19:30h.  Playa Blanca
URL:https://parroquialosremediosyaiza.org/evento/san-toribio/
CATEGORIES:Santoral
END:VEVENT
BEGIN:VEVENT
DTSTART;VALUE=DATE:20210322
DTEND;VALUE=DATE:20210323
DTSTAMP:20260425T130918
CREATED:20210224T102149Z
LAST-MODIFIED:20210224T102149Z
UID:4094-1616371200-1616457599@parroquialosremediosyaiza.org
SUMMARY:San Zacarías
DESCRIPTION:
URL:https://parroquialosremediosyaiza.org/evento/san-zacarias/
CATEGORIES:Santoral
END:VEVENT
BEGIN:VEVENT
DTSTART;VALUE=DATE:20210321
DTEND;VALUE=DATE:20210322
DTSTAMP:20260425T130918
CREATED:20210224T102111Z
LAST-MODIFIED:20210224T102111Z
UID:4092-1616284800-1616371199@parroquialosremediosyaiza.org
SUMMARY:V CUARESMA
DESCRIPTION:MISAS 10 -19.30h.  Playa  Blanca- 12 h Yaiza
URL:https://parroquialosremediosyaiza.org/evento/v-cuaresma/
CATEGORIES:Santoral
END:VEVENT
BEGIN:VEVENT
DTSTART;VALUE=DATE:20210320
DTEND;VALUE=DATE:20210321
DTSTAMP:20260425T130918
CREATED:20210224T101750Z
LAST-MODIFIED:20210224T101750Z
UID:4090-1616198400-1616284799@parroquialosremediosyaiza.org
SUMMARY:Santa Eufemia
DESCRIPTION:
URL:https://parroquialosremediosyaiza.org/evento/santa-eufemia/
CATEGORIES:Santoral
END:VEVENT
BEGIN:VEVENT
DTSTART;VALUE=DATE:20210319
DTEND;VALUE=DATE:20210320
DTSTAMP:20260425T130918
CREATED:20210224T101421Z
LAST-MODIFIED:20210224T104139Z
UID:4088-1616112000-1616198399@parroquialosremediosyaiza.org
SUMMARY:San José
DESCRIPTION:MISAS 18h.  Yaiza -19:30 h. Playa Blanca
URL:https://parroquialosremediosyaiza.org/evento/san-jose/
CATEGORIES:Santoral
END:VEVENT
BEGIN:VEVENT
DTSTART;VALUE=DATE:20210318
DTEND;VALUE=DATE:20210319
DTSTAMP:20260425T130918
CREATED:20210224T101323Z
LAST-MODIFIED:20210224T101323Z
UID:4086-1616025600-1616111999@parroquialosremediosyaiza.org
SUMMARY:San Cirilo de Jerusalén
DESCRIPTION:Despacho 17:30h. MISA y VIACRUCIS 19 Yaiza  
URL:https://parroquialosremediosyaiza.org/evento/san-cirilo-de-jerusalen/
CATEGORIES:Santoral
END:VEVENT
BEGIN:VEVENT
DTSTART;VALUE=DATE:20210317
DTEND;VALUE=DATE:20210318
DTSTAMP:20260425T130918
CREATED:20210224T101237Z
LAST-MODIFIED:20210224T101237Z
UID:4084-1615939200-1616025599@parroquialosremediosyaiza.org
SUMMARY:San Patricio
DESCRIPTION:
URL:https://parroquialosremediosyaiza.org/evento/san-patricio/
CATEGORIES:Santoral
END:VEVENT
BEGIN:VEVENT
DTSTART;VALUE=DATE:20210316
DTEND;VALUE=DATE:20210317
DTSTAMP:20260425T130918
CREATED:20210224T101103Z
LAST-MODIFIED:20210224T101103Z
UID:4082-1615852800-1615939199@parroquialosremediosyaiza.org
SUMMARY:San Heriberto
DESCRIPTION:MISA   y  VIACRUCIS 19:30h. Playa  Blanca
URL:https://parroquialosremediosyaiza.org/evento/san-heriberto/
CATEGORIES:Santoral
END:VEVENT
BEGIN:VEVENT
DTSTART;VALUE=DATE:20210315
DTEND;VALUE=DATE:20210316
DTSTAMP:20260425T130918
CREATED:20210224T101000Z
LAST-MODIFIED:20210224T101000Z
UID:4080-1615766400-1615852799@parroquialosremediosyaiza.org
SUMMARY:San Raimundo de Fitero
DESCRIPTION:
URL:https://parroquialosremediosyaiza.org/evento/san-raimundo-de-fitero/
CATEGORIES:Santoral
END:VEVENT
BEGIN:VEVENT
DTSTART;VALUE=DATE:20210314
DTEND;VALUE=DATE:20210315
DTSTAMP:20260425T130918
CREATED:20210224T100846Z
LAST-MODIFIED:20210224T100846Z
UID:4078-1615680000-1615766399@parroquialosremediosyaiza.org
SUMMARY:IV CUARESMA\, Santa Matilde\, San León y Santa Florentina
DESCRIPTION:MISA 10 y 19:30h. Playa Blanca- 12 h Yaiza
URL:https://parroquialosremediosyaiza.org/evento/iv-cuaresma-santa-matilde-san-leon-y-santa-florentina/
CATEGORIES:Santoral
END:VEVENT
BEGIN:VEVENT
DTSTART;VALUE=DATE:20210313
DTEND;VALUE=DATE:20210314
DTSTAMP:20260425T130918
CREATED:20210224T100304Z
LAST-MODIFIED:20210224T100426Z
UID:4076-1615593600-1615679999@parroquialosremediosyaiza.org
SUMMARY:San Rodrigo y San Salomón
DESCRIPTION:
URL:https://parroquialosremediosyaiza.org/evento/san-rodrigo-y-san-salomon/
CATEGORIES:Santoral
END:VEVENT
BEGIN:VEVENT
DTSTART;VALUE=DATE:20210312
DTEND;VALUE=DATE:20210313
DTSTAMP:20260425T130918
CREATED:20210224T100222Z
LAST-MODIFIED:20210224T100222Z
UID:4074-1615507200-1615593599@parroquialosremediosyaiza.org
SUMMARY:San Simeón el Teólogo
DESCRIPTION:
URL:https://parroquialosremediosyaiza.org/evento/san-simeon-el-teologo/
CATEGORIES:Santoral
END:VEVENT
BEGIN:VEVENT
DTSTART;VALUE=DATE:20210311
DTEND;VALUE=DATE:20210312
DTSTAMP:20260425T130918
CREATED:20210224T100139Z
LAST-MODIFIED:20210224T100139Z
UID:4072-1615420800-1615507199@parroquialosremediosyaiza.org
SUMMARY:San Ramiro
DESCRIPTION:Despacho 17:30 -MISA  y  VIACRUCIS 19 h.  Yaiza
URL:https://parroquialosremediosyaiza.org/evento/san-ramiro/
CATEGORIES:Santoral
END:VEVENT
BEGIN:VEVENT
DTSTART;VALUE=DATE:20210310
DTEND;VALUE=DATE:20210311
DTSTAMP:20260425T130918
CREATED:20210224T100047Z
LAST-MODIFIED:20210224T100047Z
UID:4070-1615334400-1615420799@parroquialosremediosyaiza.org
SUMMARY:San Macario de Jerusalén
DESCRIPTION:
URL:https://parroquialosremediosyaiza.org/evento/san-macario-de-jerusalen/
CATEGORIES:Santoral
END:VEVENT
BEGIN:VEVENT
DTSTART;VALUE=DATE:20210309
DTEND;VALUE=DATE:20210310
DTSTAMP:20260425T130918
CREATED:20210224T095930Z
LAST-MODIFIED:20210224T100007Z
UID:4068-1615248000-1615334399@parroquialosremediosyaiza.org
SUMMARY:Santa Francisca Romana
DESCRIPTION:MISA y VIACRUCIS 19:30h. Playa Blanca
URL:https://parroquialosremediosyaiza.org/evento/santa-francisca-romana/
CATEGORIES:Santoral
END:VEVENT
BEGIN:VEVENT
DTSTART;VALUE=DATE:20210308
DTEND;VALUE=DATE:20210309
DTSTAMP:20260425T130918
CREATED:20210224T095831Z
LAST-MODIFIED:20210224T095831Z
UID:4066-1615161600-1615247999@parroquialosremediosyaiza.org
SUMMARY:San Juan de Dios
DESCRIPTION:
URL:https://parroquialosremediosyaiza.org/evento/san-juan-de-dios/
CATEGORIES:Santoral
END:VEVENT
BEGIN:VEVENT
DTSTART;VALUE=DATE:20210307
DTEND;VALUE=DATE:20210308
DTSTAMP:20260425T130918
CREATED:20210224T095533Z
LAST-MODIFIED:20210224T095755Z
UID:4064-1615075200-1615161599@parroquialosremediosyaiza.org
SUMMARY:III CUARESMA\, Santa Perpetua y Santa Felicidad
DESCRIPTION:MISA 10 y 19:30 h. Playa Blanca- 12 h. Yaiza
URL:https://parroquialosremediosyaiza.org/evento/iii-cuaresma-santa-perpetua-y-santa-felicidad/
CATEGORIES:Santoral
END:VEVENT
BEGIN:VEVENT
DTSTART;VALUE=DATE:20210306
DTEND;VALUE=DATE:20210307
DTSTAMP:20260425T130918
CREATED:20210224T095228Z
LAST-MODIFIED:20210224T095228Z
UID:4061-1614988800-1615075199@parroquialosremediosyaiza.org
SUMMARY:San Olegario
DESCRIPTION:
URL:https://parroquialosremediosyaiza.org/evento/san-olegario/
CATEGORIES:Santoral
END:VEVENT
BEGIN:VEVENT
DTSTART;VALUE=DATE:20210305
DTEND;VALUE=DATE:20210306
DTSTAMP:20260425T130918
CREATED:20210224T094720Z
LAST-MODIFIED:20210224T094720Z
UID:4059-1614902400-1614988799@parroquialosremediosyaiza.org
SUMMARY:San Adrián\, San Teófilo y San Eusebio
DESCRIPTION:Despacho 17:30h. MISA  y  VIACRUCIS 19 h. Yaiza
URL:https://parroquialosremediosyaiza.org/evento/san-adrian-san-teofilo-y-san-eusebio/
CATEGORIES:Santoral
END:VEVENT
BEGIN:VEVENT
DTSTART;VALUE=DATE:20210304
DTEND;VALUE=DATE:20210305
DTSTAMP:20260425T130918
CREATED:20210224T094604Z
LAST-MODIFIED:20210224T094604Z
UID:4057-1614816000-1614902399@parroquialosremediosyaiza.org
SUMMARY:San Casimiro
DESCRIPTION:Despacho 17:30h. MISA  y  VIACRUCIS 19 h. Yaiza
URL:https://parroquialosremediosyaiza.org/evento/san-casimiro/
CATEGORIES:Santoral
END:VEVENT
BEGIN:VEVENT
DTSTART;VALUE=DATE:20210303
DTEND;VALUE=DATE:20210304
DTSTAMP:20260425T130918
CREATED:20210224T094441Z
LAST-MODIFIED:20210224T094441Z
UID:4055-1614729600-1614815999@parroquialosremediosyaiza.org
SUMMARY:San Emeterio
DESCRIPTION:
URL:https://parroquialosremediosyaiza.org/evento/san-emeterio/
CATEGORIES:Santoral
END:VEVENT
BEGIN:VEVENT
DTSTART;VALUE=DATE:20210302
DTEND;VALUE=DATE:20210303
DTSTAMP:20260425T130918
CREATED:20210224T094326Z
LAST-MODIFIED:20210224T094326Z
UID:4053-1614643200-1614729599@parroquialosremediosyaiza.org
SUMMARY:San Simplicio
DESCRIPTION:MISA y VIACRUCIS 19:30h. Playa  Blanca
URL:https://parroquialosremediosyaiza.org/evento/san-simplicio/
CATEGORIES:Santoral
END:VEVENT
BEGIN:VEVENT
DTSTART;VALUE=DATE:20210301
DTEND;VALUE=DATE:20210302
DTSTAMP:20260425T130918
CREATED:20210224T094030Z
LAST-MODIFIED:20210224T094107Z
UID:4051-1614556800-1614643199@parroquialosremediosyaiza.org
SUMMARY:San Rosendo y San León
DESCRIPTION:
URL:https://parroquialosremediosyaiza.org/evento/san-rosendo-y-san-leon/
CATEGORIES:Santoral
END:VEVENT
BEGIN:VEVENT
DTSTART;VALUE=DATE:20210228
DTEND;VALUE=DATE:20210301
DTSTAMP:20260425T130918
CREATED:20210125T120355Z
LAST-MODIFIED:20210125T120424Z
UID:4044-1614470400-1614556799@parroquialosremediosyaiza.org
SUMMARY:II  CUARESMA\, Ntra. Sra. Refugio de los Pecadores y San Román
DESCRIPTION:Misa 10 y 19:30 H. Playa Blanca- 12 h Yaiza
URL:https://parroquialosremediosyaiza.org/evento/ii-cuaresma-ntra-sra-refugio-de-los-pecadores-y-san-roman/
CATEGORIES:Santoral
END:VEVENT
BEGIN:VEVENT
DTSTART;VALUE=DATE:20210227
DTEND;VALUE=DATE:20210228
DTSTAMP:20260425T130918
CREATED:20210125T120239Z
LAST-MODIFIED:20210125T120239Z
UID:4042-1614384000-1614470399@parroquialosremediosyaiza.org
SUMMARY:San Gabriel de la Dolorosa
DESCRIPTION:
URL:https://parroquialosremediosyaiza.org/evento/san-gabriel-de-la-dolorosa/
CATEGORIES:Santoral
END:VEVENT
BEGIN:VEVENT
DTSTART;VALUE=DATE:20210226
DTEND;VALUE=DATE:20210227
DTSTAMP:20260425T130918
CREATED:20210125T120148Z
LAST-MODIFIED:20210125T120148Z
UID:4040-1614297600-1614383999@parroquialosremediosyaiza.org
SUMMARY:San Néstor
DESCRIPTION:
URL:https://parroquialosremediosyaiza.org/evento/san-nestor/
CATEGORIES:Santoral
END:VEVENT
BEGIN:VEVENT
DTSTART;VALUE=DATE:20210225
DTEND;VALUE=DATE:20210226
DTSTAMP:20260425T130918
CREATED:20210125T110918Z
LAST-MODIFIED:20210125T120114Z
UID:4038-1614211200-1614297599@parroquialosremediosyaiza.org
SUMMARY:San Calisto
DESCRIPTION:Despacho 17:30 MISA  19. Yaiza y Oración 
URL:https://parroquialosremediosyaiza.org/evento/san-calisto/
CATEGORIES:Santoral
END:VEVENT
BEGIN:VEVENT
DTSTART;VALUE=DATE:20210224
DTEND;VALUE=DATE:20210225
DTSTAMP:20260425T130918
CREATED:20210125T110831Z
LAST-MODIFIED:20210125T110831Z
UID:4036-1614124800-1614211199@parroquialosremediosyaiza.org
SUMMARY:San Modesto
DESCRIPTION:
URL:https://parroquialosremediosyaiza.org/evento/san-modesto/
CATEGORIES:Santoral
END:VEVENT
BEGIN:VEVENT
DTSTART;VALUE=DATE:20210223
DTEND;VALUE=DATE:20210224
DTSTAMP:20260425T130918
CREATED:20210125T110757Z
LAST-MODIFIED:20210125T110757Z
UID:4034-1614038400-1614124799@parroquialosremediosyaiza.org
SUMMARY:San Policarpo
DESCRIPTION:Padres 3º18 h. Misa – Oración 19:30h. Playa Blanca
URL:https://parroquialosremediosyaiza.org/evento/san-policarpo/
CATEGORIES:Santoral
END:VEVENT
BEGIN:VEVENT
DTSTART;VALUE=DATE:20210222
DTEND;VALUE=DATE:20210223
DTSTAMP:20260425T130918
CREATED:20210125T110654Z
LAST-MODIFIED:20210125T110654Z
UID:4032-1613952000-1614038399@parroquialosremediosyaiza.org
SUMMARY:Cátedra de San Pedro
DESCRIPTION:
URL:https://parroquialosremediosyaiza.org/evento/catedra-de-san-pedro/
CATEGORIES:Santoral
END:VEVENT
END:VCALENDAR