BEGIN:VCALENDAR
VERSION:2.0
PRODID:-//Parroquia Los Remedios - ECPv6.15.17//NONSGML v1.0//EN
CALSCALE:GREGORIAN
METHOD:PUBLISH
X-ORIGINAL-URL:https://parroquialosremediosyaiza.org
X-WR-CALDESC:Eventos para Parroquia Los Remedios
REFRESH-INTERVAL;VALUE=DURATION:PT1H
X-Robots-Tag:noindex
X-PUBLISHED-TTL:PT1H
BEGIN:VTIMEZONE
TZID:Europe/London
BEGIN:DAYLIGHT
TZOFFSETFROM:+0000
TZOFFSETTO:+0100
TZNAME:BST
DTSTART:20200329T010000
END:DAYLIGHT
BEGIN:STANDARD
TZOFFSETFROM:+0100
TZOFFSETTO:+0000
TZNAME:GMT
DTSTART:20201025T010000
END:STANDARD
BEGIN:DAYLIGHT
TZOFFSETFROM:+0000
TZOFFSETTO:+0100
TZNAME:BST
DTSTART:20210328T010000
END:DAYLIGHT
BEGIN:STANDARD
TZOFFSETFROM:+0100
TZOFFSETTO:+0000
TZNAME:GMT
DTSTART:20211031T010000
END:STANDARD
BEGIN:DAYLIGHT
TZOFFSETFROM:+0000
TZOFFSETTO:+0100
TZNAME:BST
DTSTART:20220327T010000
END:DAYLIGHT
BEGIN:STANDARD
TZOFFSETFROM:+0100
TZOFFSETTO:+0000
TZNAME:GMT
DTSTART:20221030T010000
END:STANDARD
END:VTIMEZONE
BEGIN:VEVENT
DTSTART;VALUE=DATE:20210227
DTEND;VALUE=DATE:20210228
DTSTAMP:20260425T164740
CREATED:20210125T120239Z
LAST-MODIFIED:20210125T120239Z
UID:4042-1614384000-1614470399@parroquialosremediosyaiza.org
SUMMARY:San Gabriel de la Dolorosa
DESCRIPTION:
URL:https://parroquialosremediosyaiza.org/evento/san-gabriel-de-la-dolorosa/
CATEGORIES:Santoral
END:VEVENT
BEGIN:VEVENT
DTSTART;VALUE=DATE:20210226
DTEND;VALUE=DATE:20210227
DTSTAMP:20260425T164740
CREATED:20210125T120148Z
LAST-MODIFIED:20210125T120148Z
UID:4040-1614297600-1614383999@parroquialosremediosyaiza.org
SUMMARY:San Néstor
DESCRIPTION:
URL:https://parroquialosremediosyaiza.org/evento/san-nestor/
CATEGORIES:Santoral
END:VEVENT
BEGIN:VEVENT
DTSTART;VALUE=DATE:20210225
DTEND;VALUE=DATE:20210226
DTSTAMP:20260425T164740
CREATED:20210125T110918Z
LAST-MODIFIED:20210125T120114Z
UID:4038-1614211200-1614297599@parroquialosremediosyaiza.org
SUMMARY:San Calisto
DESCRIPTION:Despacho 17:30 MISA  19. Yaiza y Oración 
URL:https://parroquialosremediosyaiza.org/evento/san-calisto/
CATEGORIES:Santoral
END:VEVENT
BEGIN:VEVENT
DTSTART;VALUE=DATE:20210224
DTEND;VALUE=DATE:20210225
DTSTAMP:20260425T164740
CREATED:20210125T110831Z
LAST-MODIFIED:20210125T110831Z
UID:4036-1614124800-1614211199@parroquialosremediosyaiza.org
SUMMARY:San Modesto
DESCRIPTION:
URL:https://parroquialosremediosyaiza.org/evento/san-modesto/
CATEGORIES:Santoral
END:VEVENT
BEGIN:VEVENT
DTSTART;VALUE=DATE:20210223
DTEND;VALUE=DATE:20210224
DTSTAMP:20260425T164740
CREATED:20210125T110757Z
LAST-MODIFIED:20210125T110757Z
UID:4034-1614038400-1614124799@parroquialosremediosyaiza.org
SUMMARY:San Policarpo
DESCRIPTION:Padres 3º18 h. Misa – Oración 19:30h. Playa Blanca
URL:https://parroquialosremediosyaiza.org/evento/san-policarpo/
CATEGORIES:Santoral
END:VEVENT
BEGIN:VEVENT
DTSTART;VALUE=DATE:20210222
DTEND;VALUE=DATE:20210223
DTSTAMP:20260425T164740
CREATED:20210125T110654Z
LAST-MODIFIED:20210125T110654Z
UID:4032-1613952000-1614038399@parroquialosremediosyaiza.org
SUMMARY:Cátedra de San Pedro
DESCRIPTION:
URL:https://parroquialosremediosyaiza.org/evento/catedra-de-san-pedro/
CATEGORIES:Santoral
END:VEVENT
BEGIN:VEVENT
DTSTART;VALUE=DATE:20210221
DTEND;VALUE=DATE:20210222
DTSTAMP:20260425T164740
CREATED:20210125T110619Z
LAST-MODIFIED:20210125T110619Z
UID:4030-1613865600-1613951999@parroquialosremediosyaiza.org
SUMMARY:I CUARESMA
DESCRIPTION:Misas 10 y 19.30h.  P. Blanca- 12 h Yaiza
URL:https://parroquialosremediosyaiza.org/evento/i-cuaresma/
CATEGORIES:Santoral
END:VEVENT
BEGIN:VEVENT
DTSTART;VALUE=DATE:20210220
DTEND;VALUE=DATE:20210221
DTSTAMP:20260425T164740
CREATED:20210125T110527Z
LAST-MODIFIED:20210125T110527Z
UID:4028-1613779200-1613865599@parroquialosremediosyaiza.org
SUMMARY:S. Eleuterio
DESCRIPTION:
URL:https://parroquialosremediosyaiza.org/evento/s-eleuterio/
CATEGORIES:Santoral
END:VEVENT
BEGIN:VEVENT
DTSTART;VALUE=DATE:20210219
DTEND;VALUE=DATE:20210220
DTSTAMP:20260425T164740
CREATED:20210125T104906Z
LAST-MODIFIED:20210125T104906Z
UID:4026-1613692800-1613779199@parroquialosremediosyaiza.org
SUMMARY:San Conrado
DESCRIPTION:
URL:https://parroquialosremediosyaiza.org/evento/san-conrado/
CATEGORIES:Santoral
END:VEVENT
BEGIN:VEVENT
DTSTART;VALUE=DATE:20210218
DTEND;VALUE=DATE:20210219
DTSTAMP:20260425T164740
CREATED:20210125T104545Z
LAST-MODIFIED:20210125T104545Z
UID:4024-1613606400-1613692799@parroquialosremediosyaiza.org
SUMMARY:San Flaviano
DESCRIPTION:Despacho 17:30h. Misa y formación 19 h. Yaiza 
URL:https://parroquialosremediosyaiza.org/evento/san-flaviano/
CATEGORIES:Santoral
END:VEVENT
BEGIN:VEVENT
DTSTART;VALUE=DATE:20210217
DTEND;VALUE=DATE:20210218
DTSTAMP:20260425T164740
CREATED:20210125T104428Z
LAST-MODIFIED:20210125T104428Z
UID:4022-1613520000-1613606399@parroquialosremediosyaiza.org
SUMMARY:Miércoles de Ceniza
DESCRIPTION:MISAS 18 h. Playa Blanca 19:30 h. Yaiza     
URL:https://parroquialosremediosyaiza.org/evento/miercoles-de-ceniza/
CATEGORIES:Santoral
END:VEVENT
BEGIN:VEVENT
DTSTART;VALUE=DATE:20210216
DTEND;VALUE=DATE:20210217
DTSTAMP:20260425T164740
CREATED:20210125T104239Z
LAST-MODIFIED:20210125T104239Z
UID:4020-1613433600-1613519999@parroquialosremediosyaiza.org
SUMMARY:Santa Camila de San José
DESCRIPTION:Misa – Formación 19:30h. P. Blanca
URL:https://parroquialosremediosyaiza.org/evento/santa-camila-de-san-jose/
CATEGORIES:Santoral
END:VEVENT
BEGIN:VEVENT
DTSTART;VALUE=DATE:20210215
DTEND;VALUE=DATE:20210216
DTSTAMP:20260425T164740
CREATED:20210125T104139Z
LAST-MODIFIED:20210125T104139Z
UID:4018-1613347200-1613433599@parroquialosremediosyaiza.org
SUMMARY:San Faustino y San Jovita
DESCRIPTION:
URL:https://parroquialosremediosyaiza.org/evento/san-faustino-y-san-jovita/
CATEGORIES:Santoral
END:VEVENT
BEGIN:VEVENT
DTSTART;VALUE=DATE:20210214
DTEND;VALUE=DATE:20210215
DTSTAMP:20260425T164740
CREATED:20210125T104007Z
LAST-MODIFIED:20210125T104007Z
UID:4016-1613260800-1613347199@parroquialosremediosyaiza.org
SUMMARY:VI TIEMPO ORDINARIO\, San Cirilo y San Metodio
DESCRIPTION:Misa 10 y 19:30h. Playa Blanca- 12 h Yaiza
URL:https://parroquialosremediosyaiza.org/evento/vi-tiempo-ordinario-san-cirilo-y-san-metodio/
CATEGORIES:Santoral
END:VEVENT
BEGIN:VEVENT
DTSTART;VALUE=DATE:20210213
DTEND;VALUE=DATE:20210214
DTSTAMP:20260425T164740
CREATED:20210125T103821Z
LAST-MODIFIED:20210125T103821Z
UID:4014-1613174400-1613260799@parroquialosremediosyaiza.org
SUMMARY:Santa Engracia
DESCRIPTION:
URL:https://parroquialosremediosyaiza.org/evento/santa-engracia/
CATEGORIES:Santoral
END:VEVENT
BEGIN:VEVENT
DTSTART;VALUE=DATE:20210212
DTEND;VALUE=DATE:20210213
DTSTAMP:20260425T164740
CREATED:20210125T103732Z
LAST-MODIFIED:20210125T103732Z
UID:4012-1613088000-1613174399@parroquialosremediosyaiza.org
SUMMARY:San Gaudencio y San Modesto
DESCRIPTION:
URL:https://parroquialosremediosyaiza.org/evento/san-gaudencio-y-san-modesto/
CATEGORIES:Santoral
END:VEVENT
BEGIN:VEVENT
DTSTART;VALUE=DATE:20210211
DTEND;VALUE=DATE:20210212
DTSTAMP:20260425T164740
CREATED:20210125T103436Z
LAST-MODIFIED:20210125T103444Z
UID:4009-1613001600-1613087999@parroquialosremediosyaiza.org
SUMMARY:Nuestra Señora de Lourdes
DESCRIPTION:Padres 4º16:30 Despacho 17:30 Misa – Oración 19  Yaiza
URL:https://parroquialosremediosyaiza.org/evento/nuestra-senora-de-lourdes/
CATEGORIES:Santoral
END:VEVENT
BEGIN:VEVENT
DTSTART;VALUE=DATE:20210210
DTEND;VALUE=DATE:20210211
DTSTAMP:20260425T164740
CREATED:20210125T103244Z
LAST-MODIFIED:20210125T103318Z
UID:4007-1612915200-1613001599@parroquialosremediosyaiza.org
SUMMARY:Santa Escolástica
DESCRIPTION:
URL:https://parroquialosremediosyaiza.org/evento/santa-escolastica/
CATEGORIES:Santoral
END:VEVENT
BEGIN:VEVENT
DTSTART;VALUE=DATE:20210209
DTEND;VALUE=DATE:20210210
DTSTAMP:20260425T164740
CREATED:20210125T103138Z
LAST-MODIFIED:20210125T103138Z
UID:4005-1612828800-1612915199@parroquialosremediosyaiza.org
SUMMARY:Santa Apolonia
DESCRIPTION:Padres 4º 18h Misa- Oración 19:30h Playa Blanca
URL:https://parroquialosremediosyaiza.org/evento/santa-apolonia/
CATEGORIES:Santoral
END:VEVENT
BEGIN:VEVENT
DTSTART;VALUE=DATE:20210208
DTEND;VALUE=DATE:20210209
DTSTAMP:20260425T164740
CREATED:20210125T102825Z
LAST-MODIFIED:20210125T102825Z
UID:4003-1612742400-1612828799@parroquialosremediosyaiza.org
SUMMARY:San Jerónimo Emiliani
DESCRIPTION:
URL:https://parroquialosremediosyaiza.org/evento/san-jeronimo-emiliani/
CATEGORIES:Santoral
END:VEVENT
BEGIN:VEVENT
DTSTART;VALUE=DATE:20210207
DTEND;VALUE=DATE:20210208
DTSTAMP:20260425T164740
CREATED:20210125T102745Z
LAST-MODIFIED:20210125T102745Z
UID:4001-1612656000-1612742399@parroquialosremediosyaiza.org
SUMMARY:V TIEMPO ORDINARIO y San Fidel
DESCRIPTION:Misa 10 y 19:30 h. Playa Blanca- 12 h. Yaiza
URL:https://parroquialosremediosyaiza.org/evento/v-tiempo-ordinario-y-san-fidel/
CATEGORIES:Santoral
END:VEVENT
BEGIN:VEVENT
DTSTART;VALUE=DATE:20210206
DTEND;VALUE=DATE:20210207
DTSTAMP:20260425T164740
CREATED:20210125T102555Z
LAST-MODIFIED:20210125T102555Z
UID:3999-1612569600-1612655999@parroquialosremediosyaiza.org
SUMMARY:San Pablo Miki y compañeros
DESCRIPTION:
URL:https://parroquialosremediosyaiza.org/evento/san-pablo-miki-y-companeros/
CATEGORIES:Santoral
END:VEVENT
BEGIN:VEVENT
DTSTART;VALUE=DATE:20210205
DTEND;VALUE=DATE:20210206
DTSTAMP:20260425T164740
CREATED:20210125T102443Z
LAST-MODIFIED:20210125T102443Z
UID:3997-1612483200-1612569599@parroquialosremediosyaiza.org
SUMMARY:Santa Águeda
DESCRIPTION:
URL:https://parroquialosremediosyaiza.org/evento/santa-agueda/
CATEGORIES:Santoral
END:VEVENT
BEGIN:VEVENT
DTSTART;VALUE=DATE:20210204
DTEND;VALUE=DATE:20210205
DTSTAMP:20260425T164740
CREATED:20210125T102336Z
LAST-MODIFIED:20210125T102336Z
UID:3995-1612396800-1612483199@parroquialosremediosyaiza.org
SUMMARY:San Andrés Corsini
DESCRIPTION:Despacho 17:30h. Misa y Formación 19 h. Yaiza
URL:https://parroquialosremediosyaiza.org/evento/san-andres-corsini/
CATEGORIES:Santoral
END:VEVENT
BEGIN:VEVENT
DTSTART;VALUE=DATE:20210203
DTEND;VALUE=DATE:20210204
DTSTAMP:20260425T164740
CREATED:20210125T102228Z
LAST-MODIFIED:20210125T102228Z
UID:3993-1612310400-1612396799@parroquialosremediosyaiza.org
SUMMARY:San Blas y San Óscar
DESCRIPTION:
URL:https://parroquialosremediosyaiza.org/evento/san-blas-y-san-oscar/
CATEGORIES:Santoral
END:VEVENT
BEGIN:VEVENT
DTSTART;VALUE=DATE:20210202
DTEND;VALUE=DATE:20210203
DTSTAMP:20260425T164740
CREATED:20210125T102101Z
LAST-MODIFIED:20210125T102101Z
UID:3991-1612224000-1612310399@parroquialosremediosyaiza.org
SUMMARY:Presentación del Señor
DESCRIPTION:Misa y Formación 19:30h. P. Blanca
URL:https://parroquialosremediosyaiza.org/evento/presentacion-del-senor/
CATEGORIES:Santoral
END:VEVENT
BEGIN:VEVENT
DTSTART;VALUE=DATE:20210201
DTEND;VALUE=DATE:20210202
DTSTAMP:20260425T164740
CREATED:20210125T101554Z
LAST-MODIFIED:20210125T101554Z
UID:3989-1612137600-1612223999@parroquialosremediosyaiza.org
SUMMARY:San Cecilio
DESCRIPTION:
URL:https://parroquialosremediosyaiza.org/evento/san-cecilio/
CATEGORIES:Santoral
END:VEVENT
BEGIN:VEVENT
DTSTART;TZID=Europe/London:20210131T080000
DTEND;TZID=Europe/London:20210131T170000
DTSTAMP:20260425T164740
CREATED:20201218T095940Z
LAST-MODIFIED:20210125T101615Z
UID:3977-1612080000-1612112400@parroquialosremediosyaiza.org
SUMMARY:TIEMPO  ORDINARIO y San Juan Bosco
DESCRIPTION:MISAS 10 y 19:30 h. Playa Blanca – 12 h. Yaiza – 18 h. Femés
URL:https://parroquialosremediosyaiza.org/evento/tiempo-ordinario-y-san-juan-bosco/
CATEGORIES:Santoral
END:VEVENT
BEGIN:VEVENT
DTSTART;TZID=Europe/London:20210130T080000
DTEND;TZID=Europe/London:20210130T170000
DTSTAMP:20260425T164740
CREATED:20201218T095900Z
LAST-MODIFIED:20210125T101624Z
UID:3975-1611993600-1612026000@parroquialosremediosyaiza.org
SUMMARY:San Alejandro de Jerusalén
DESCRIPTION:MISA 18 h. Uga y 19:30 h. Las Breñas
URL:https://parroquialosremediosyaiza.org/evento/san-alejandro-de-jerusalen/
CATEGORIES:Santoral
END:VEVENT
BEGIN:VEVENT
DTSTART;TZID=Europe/London:20210129T080000
DTEND;TZID=Europe/London:20210129T170000
DTSTAMP:20260425T164740
CREATED:20201218T095330Z
LAST-MODIFIED:20210125T101631Z
UID:3973-1611907200-1611939600@parroquialosremediosyaiza.org
SUMMARY:San Manuel Domingo y Sol
DESCRIPTION:
URL:https://parroquialosremediosyaiza.org/evento/san-manuel-domingo-y-sol/
CATEGORIES:Santoral
END:VEVENT
END:VCALENDAR