BEGIN:VCALENDAR
VERSION:2.0
PRODID:-//Parroquia Los Remedios - ECPv6.15.17//NONSGML v1.0//EN
CALSCALE:GREGORIAN
METHOD:PUBLISH
X-ORIGINAL-URL:https://parroquialosremediosyaiza.org
X-WR-CALDESC:Eventos para Parroquia Los Remedios
REFRESH-INTERVAL;VALUE=DURATION:PT1H
X-Robots-Tag:noindex
X-PUBLISHED-TTL:PT1H
BEGIN:VTIMEZONE
TZID:Europe/London
BEGIN:DAYLIGHT
TZOFFSETFROM:+0000
TZOFFSETTO:+0100
TZNAME:BST
DTSTART:20200329T010000
END:DAYLIGHT
BEGIN:STANDARD
TZOFFSETFROM:+0100
TZOFFSETTO:+0000
TZNAME:GMT
DTSTART:20201025T010000
END:STANDARD
BEGIN:DAYLIGHT
TZOFFSETFROM:+0000
TZOFFSETTO:+0100
TZNAME:BST
DTSTART:20210328T010000
END:DAYLIGHT
BEGIN:STANDARD
TZOFFSETFROM:+0100
TZOFFSETTO:+0000
TZNAME:GMT
DTSTART:20211031T010000
END:STANDARD
BEGIN:DAYLIGHT
TZOFFSETFROM:+0000
TZOFFSETTO:+0100
TZNAME:BST
DTSTART:20220327T010000
END:DAYLIGHT
BEGIN:STANDARD
TZOFFSETFROM:+0100
TZOFFSETTO:+0000
TZNAME:GMT
DTSTART:20221030T010000
END:STANDARD
END:VTIMEZONE
BEGIN:VEVENT
DTSTART;VALUE=DATE:20210919
DTEND;VALUE=DATE:20210920
DTSTAMP:20260422T151526
CREATED:20210903T100908Z
LAST-MODIFIED:20210903T100908Z
UID:4524-1632009600-1632095999@parroquialosremediosyaiza.org
SUMMARY:XXV TIEMPO ORDINARIO  San Jenaro
DESCRIPTION:MISAS 10 y 19:30 h. Playa Blanca- 12 h Yaiza-18 h. Femés
URL:https://parroquialosremediosyaiza.org/evento/xxv-tiempo-ordinario-san-jenaro/
CATEGORIES:Santoral
END:VEVENT
BEGIN:VEVENT
DTSTART;VALUE=DATE:20210918
DTEND;VALUE=DATE:20210919
DTSTAMP:20260422T151526
CREATED:20210903T100810Z
LAST-MODIFIED:20210903T100810Z
UID:4521-1631923200-1632009599@parroquialosremediosyaiza.org
SUMMARY:San José de Cupertino
DESCRIPTION:Limpieza P. Blanca 10 h. MISAS: 18 h. Uga   y 19:30 h. Las Breñas  
URL:https://parroquialosremediosyaiza.org/evento/san-jose-de-cupertino-2/
CATEGORIES:Santoral
END:VEVENT
BEGIN:VEVENT
DTSTART;VALUE=DATE:20210917
DTEND;VALUE=DATE:20210918
DTSTAMP:20260422T151526
CREATED:20210903T100700Z
LAST-MODIFIED:20210903T100700Z
UID:4519-1631836800-1631923199@parroquialosremediosyaiza.org
SUMMARY:S. Roberto Belarmino
DESCRIPTION:Limpieza Yaiza 17 h. Reparto Cáritas 19:30 h.
URL:https://parroquialosremediosyaiza.org/evento/s-roberto-belarmino/
CATEGORIES:Santoral
END:VEVENT
BEGIN:VEVENT
DTSTART;VALUE=DATE:20210916
DTEND;VALUE=DATE:20210917
DTSTAMP:20260422T151526
CREATED:20210903T100543Z
LAST-MODIFIED:20210903T100543Z
UID:4517-1631750400-1631836799@parroquialosremediosyaiza.org
SUMMARY:Stos. Cornelio y Cipriano
DESCRIPTION:Despacho: 17:30 h. MISA 19 h. Yaiza
URL:https://parroquialosremediosyaiza.org/evento/stos-cornelio-y-cipriano/
CATEGORIES:Santoral
END:VEVENT
BEGIN:VEVENT
DTSTART;VALUE=DATE:20210915
DTEND;VALUE=DATE:20210916
DTSTAMP:20260422T151526
CREATED:20210903T100436Z
LAST-MODIFIED:20210903T100436Z
UID:4515-1631664000-1631750399@parroquialosremediosyaiza.org
SUMMARY:Virgen de Los Dolores
DESCRIPTION:MISA DOLORES 19 h.
URL:https://parroquialosremediosyaiza.org/evento/virgen-de-los-dolores-2/
CATEGORIES:Santoral
END:VEVENT
BEGIN:VEVENT
DTSTART;VALUE=DATE:20210914
DTEND;VALUE=DATE:20210915
DTSTAMP:20260422T151526
CREATED:20210903T100339Z
LAST-MODIFIED:20210903T100339Z
UID:4513-1631577600-1631663999@parroquialosremediosyaiza.org
SUMMARY:EXALTACION DE LA SANTA CRUZ
DESCRIPTION:MISA Playa Blanca 19:30 h.      
URL:https://parroquialosremediosyaiza.org/evento/exaltacion-de-la-santa-cruz-2/
CATEGORIES:Santoral
END:VEVENT
BEGIN:VEVENT
DTSTART;VALUE=DATE:20210913
DTEND;VALUE=DATE:20210914
DTSTAMP:20260422T151526
CREATED:20210903T095938Z
LAST-MODIFIED:20210903T095938Z
UID:4511-1631491200-1631577599@parroquialosremediosyaiza.org
SUMMARY:San Juan Crisóstomo
DESCRIPTION:
URL:https://parroquialosremediosyaiza.org/evento/san-juan-crisostomo/
CATEGORIES:Santoral
END:VEVENT
BEGIN:VEVENT
DTSTART;VALUE=DATE:20210912
DTEND;VALUE=DATE:20210913
DTSTAMP:20260422T151526
CREATED:20210903T095810Z
LAST-MODIFIED:20210903T095810Z
UID:4509-1631404800-1631491199@parroquialosremediosyaiza.org
SUMMARY:XXIV TIEMPO ORDINARIO –DULCE NOMBRE DE MARÍA
DESCRIPTION:MISA 10 y 19:30 h. Playa Blanca- 12 h Yaiza-18 h. Femés
URL:https://parroquialosremediosyaiza.org/evento/xxiv-tiempo-ordinario-dulce-nombre-de-maria/
CATEGORIES:Santoral
END:VEVENT
BEGIN:VEVENT
DTSTART;VALUE=DATE:20210911
DTEND;VALUE=DATE:20210912
DTSTAMP:20260422T151526
CREATED:20210903T095710Z
LAST-MODIFIED:20210903T095710Z
UID:4507-1631318400-1631404799@parroquialosremediosyaiza.org
SUMMARY:San Emiliano
DESCRIPTION:Limpieza P. Blanca 10 h. Bautizo 12:30 h. P. Blanca \nMISAS: 18 h. Uga   y 19:30 h. Las Breñas  
URL:https://parroquialosremediosyaiza.org/evento/san-emiliano/
CATEGORIES:Santoral
END:VEVENT
BEGIN:VEVENT
DTSTART;VALUE=DATE:20210910
DTEND;VALUE=DATE:20210911
DTSTAMP:20260422T151526
CREATED:20210903T095616Z
LAST-MODIFIED:20210903T095616Z
UID:4505-1631232000-1631318399@parroquialosremediosyaiza.org
SUMMARY:San Nicolás
DESCRIPTION:Limpieza Yaiza 17 h. y Cáritas Playa Blanca 19:30 h.
URL:https://parroquialosremediosyaiza.org/evento/san-nicolas-2/
CATEGORIES:Santoral
END:VEVENT
BEGIN:VEVENT
DTSTART;VALUE=DATE:20210909
DTEND;VALUE=DATE:20210910
DTSTAMP:20260422T151526
CREATED:20210903T095118Z
LAST-MODIFIED:20210903T095118Z
UID:4503-1631145600-1631231999@parroquialosremediosyaiza.org
SUMMARY:San Pedro Claver
DESCRIPTION:
URL:https://parroquialosremediosyaiza.org/evento/san-pedro-claver-2/
CATEGORIES:Santoral
END:VEVENT
BEGIN:VEVENT
DTSTART;VALUE=DATE:20210908
DTEND;VALUE=DATE:20210909
DTSTAMP:20260422T151526
CREATED:20210903T095000Z
LAST-MODIFIED:20210903T095000Z
UID:4501-1631059200-1631145599@parroquialosremediosyaiza.org
SUMMARY:Natividad de María -Virgen de Los Remedios
DESCRIPTION:MISA y Despedida del Párroco 19 h.   – 20 h.  CORAL  YAIZA
URL:https://parroquialosremediosyaiza.org/evento/natividad-de-maria-virgen-de-los-remedios/
CATEGORIES:Santoral
END:VEVENT
BEGIN:VEVENT
DTSTART;VALUE=DATE:20210907
DTEND;VALUE=DATE:20210908
DTSTAMP:20260422T151526
CREATED:20210903T094819Z
LAST-MODIFIED:20210903T094819Z
UID:4499-1630972800-1631059199@parroquialosremediosyaiza.org
SUMMARY:Santa Regina
DESCRIPTION:MISAS 12 h.   Yaiza y Playa Blanca 19:30 h.
URL:https://parroquialosremediosyaiza.org/evento/santa-regina-2/
CATEGORIES:Santoral
END:VEVENT
BEGIN:VEVENT
DTSTART;VALUE=DATE:20210906
DTEND;VALUE=DATE:20210907
DTSTAMP:20260422T151526
CREATED:20210903T094720Z
LAST-MODIFIED:20210903T094720Z
UID:4497-1630886400-1630972799@parroquialosremediosyaiza.org
SUMMARY:San Zacarías- Ntra. Sra. de Guadalupe
DESCRIPTION:MISA 12 h. Yaiza
URL:https://parroquialosremediosyaiza.org/evento/san-zacarias-ntra-sra-de-guadalupe/
CATEGORIES:Santoral
END:VEVENT
BEGIN:VEVENT
DTSTART;VALUE=DATE:20210905
DTEND;VALUE=DATE:20210906
DTSTAMP:20260422T151526
CREATED:20210903T094628Z
LAST-MODIFIED:20210903T094628Z
UID:4495-1630800000-1630886399@parroquialosremediosyaiza.org
SUMMARY:XXIII  TIEMPO ORDINARIO - Sta. Teresa de Calcuta
DESCRIPTION:MISA 10 y 19:30 h. Playa Blanca- 12 h Yaiza-18 h. Femés y Bautizo
URL:https://parroquialosremediosyaiza.org/evento/xxiii-tiempo-ordinario-sta-teresa-de-calcuta/
CATEGORIES:Santoral
END:VEVENT
BEGIN:VEVENT
DTSTART;VALUE=DATE:20210904
DTEND;VALUE=DATE:20210905
DTSTAMP:20260422T151526
CREATED:20210903T094519Z
LAST-MODIFIED:20210903T094519Z
UID:4492-1630713600-1630799999@parroquialosremediosyaiza.org
SUMMARY:Santa Rosalía
DESCRIPTION:Limpieza templo 10 h. y Bautizo Playa Blanca 12.30 h. MISAS: 18 h. Uga   y 19:30 h. Las Breñas
URL:https://parroquialosremediosyaiza.org/evento/santa-rosalia-2/
CATEGORIES:Santoral
END:VEVENT
BEGIN:VEVENT
DTSTART;VALUE=DATE:20210903
DTEND;VALUE=DATE:20210904
DTSTAMP:20260422T151526
CREATED:20210903T094427Z
LAST-MODIFIED:20210903T094427Z
UID:4490-1630627200-1630713599@parroquialosremediosyaiza.org
SUMMARY:San Gregorio Magno
DESCRIPTION:Limpieza Yaiza 17 h. Reparto Cáritas 19:30 P.Blanca
URL:https://parroquialosremediosyaiza.org/evento/san-gregorio-magno-2/
CATEGORIES:Santoral
END:VEVENT
BEGIN:VEVENT
DTSTART;VALUE=DATE:20210902
DTEND;VALUE=DATE:20210903
DTSTAMP:20260422T151526
CREATED:20210903T094318Z
LAST-MODIFIED:20210903T094318Z
UID:4488-1630540800-1630627199@parroquialosremediosyaiza.org
SUMMARY:San Antolín
DESCRIPTION:
URL:https://parroquialosremediosyaiza.org/evento/san-antolin-2/
CATEGORIES:Santoral
END:VEVENT
BEGIN:VEVENT
DTSTART;VALUE=DATE:20210901
DTEND;VALUE=DATE:20210902
DTSTAMP:20260422T151526
CREATED:20210901T080001Z
LAST-MODIFIED:20210903T094233Z
UID:4484-1630454400-1630540799@parroquialosremediosyaiza.org
SUMMARY:San Gil
DESCRIPTION:Acogida Cáritas Playa Blanca 19:30 h
URL:https://parroquialosremediosyaiza.org/evento/san-gil-2/
CATEGORIES:Santoral
END:VEVENT
BEGIN:VEVENT
DTSTART;VALUE=DATE:20210831
DTEND;VALUE=DATE:20210901
DTSTAMP:20260422T151526
CREATED:20210729T125850Z
LAST-MODIFIED:20210729T125850Z
UID:4481-1630368000-1630454399@parroquialosremediosyaiza.org
SUMMARY:San Ramón Nonato y Paulino
DESCRIPTION:
URL:https://parroquialosremediosyaiza.org/evento/san-ramon-nonato-y-paulino-2/
CATEGORIES:Santoral
END:VEVENT
BEGIN:VEVENT
DTSTART;VALUE=DATE:20210830
DTEND;VALUE=DATE:20210831
DTSTAMP:20260422T151526
CREATED:20210729T125803Z
LAST-MODIFIED:20210729T125803Z
UID:4479-1630281600-1630367999@parroquialosremediosyaiza.org
SUMMARY:Santa Juana Jugan\, San Félix y Adauto
DESCRIPTION:
URL:https://parroquialosremediosyaiza.org/evento/santa-juana-jugan-san-felix-y-adauto/
CATEGORIES:Santoral
END:VEVENT
BEGIN:VEVENT
DTSTART;VALUE=DATE:20210829
DTEND;VALUE=DATE:20210830
DTSTAMP:20260422T151526
CREATED:20210729T125628Z
LAST-MODIFIED:20210729T125628Z
UID:4477-1630195200-1630281599@parroquialosremediosyaiza.org
SUMMARY:XXII Tiempo Ordinario - Martirio San Juan Bautista
DESCRIPTION:MISAS 10 y 19:30 h. Playa Blanca – 12 h. Yaiza – 18 h. Femés
URL:https://parroquialosremediosyaiza.org/evento/xxii-tiempo-ordinario-martirio-san-juan-bautista/
CATEGORIES:Santoral
END:VEVENT
BEGIN:VEVENT
DTSTART;VALUE=DATE:20210828
DTEND;VALUE=DATE:20210829
DTSTAMP:20260422T151526
CREATED:20210729T125541Z
LAST-MODIFIED:20210729T125541Z
UID:4475-1630108800-1630195199@parroquialosremediosyaiza.org
SUMMARY:San Agustín
DESCRIPTION:
URL:https://parroquialosremediosyaiza.org/evento/san-agustin-2/
CATEGORIES:Santoral
END:VEVENT
BEGIN:VEVENT
DTSTART;VALUE=DATE:20210827
DTEND;VALUE=DATE:20210828
DTSTAMP:20260422T151526
CREATED:20210729T125515Z
LAST-MODIFIED:20210729T125515Z
UID:4473-1630022400-1630108799@parroquialosremediosyaiza.org
SUMMARY:Santa Mónica
DESCRIPTION:
URL:https://parroquialosremediosyaiza.org/evento/santa-monica-2/
CATEGORIES:Santoral
END:VEVENT
BEGIN:VEVENT
DTSTART;VALUE=DATE:20210826
DTEND;VALUE=DATE:20210827
DTSTAMP:20260422T151526
CREATED:20210729T125444Z
LAST-MODIFIED:20210729T125444Z
UID:4471-1629936000-1630022399@parroquialosremediosyaiza.org
SUMMARY:Santa Teresa de Jesús Jornet e Ibars
DESCRIPTION:Despacho 17:30 h – MISA 19  h. Yaiza
URL:https://parroquialosremediosyaiza.org/evento/santa-teresa-de-jesus-jornet-e-ibars-2/
CATEGORIES:Santoral
END:VEVENT
BEGIN:VEVENT
DTSTART;VALUE=DATE:20210825
DTEND;VALUE=DATE:20210826
DTSTAMP:20260422T151526
CREATED:20210729T125400Z
LAST-MODIFIED:20210729T125400Z
UID:4469-1629849600-1629935999@parroquialosremediosyaiza.org
SUMMARY:San Luis de Francia y San José de Calasanz
DESCRIPTION:
URL:https://parroquialosremediosyaiza.org/evento/san-luis-de-francia-y-san-jose-de-calasanz/
CATEGORIES:Santoral
END:VEVENT
BEGIN:VEVENT
DTSTART;VALUE=DATE:20210824
DTEND;VALUE=DATE:20210825
DTSTAMP:20260422T151526
CREATED:20210729T125303Z
LAST-MODIFIED:20210729T125303Z
UID:4467-1629763200-1629849599@parroquialosremediosyaiza.org
SUMMARY:San Bartolomé  Apóstol
DESCRIPTION:MISA 19:30 h. Playa Blanca
URL:https://parroquialosremediosyaiza.org/evento/san-bartolome-apostol/
CATEGORIES:Santoral
END:VEVENT
BEGIN:VEVENT
DTSTART;VALUE=DATE:20210823
DTEND;VALUE=DATE:20210824
DTSTAMP:20260422T151526
CREATED:20210729T125228Z
LAST-MODIFIED:20210729T125228Z
UID:4465-1629676800-1629763199@parroquialosremediosyaiza.org
SUMMARY:Santa Rosa de Lima
DESCRIPTION:
URL:https://parroquialosremediosyaiza.org/evento/santa-rosa-de-lima/
CATEGORIES:Santoral
END:VEVENT
BEGIN:VEVENT
DTSTART;VALUE=DATE:20210822
DTEND;VALUE=DATE:20210823
DTSTAMP:20260422T151526
CREATED:20210729T125152Z
LAST-MODIFIED:20210729T125152Z
UID:4463-1629590400-1629676799@parroquialosremediosyaiza.org
SUMMARY:XXI  Tiempo Ordinario y Santa María Reina
DESCRIPTION:MISAS 10 y 19:30 h. Playa Blanca – 12 h. Yaiza – 18 h. Femés
URL:https://parroquialosremediosyaiza.org/evento/xxi-tiempo-ordinario-y-santa-maria-reina/
CATEGORIES:Santoral
END:VEVENT
BEGIN:VEVENT
DTSTART;VALUE=DATE:20210821
DTEND;VALUE=DATE:20210822
DTSTAMP:20260422T151526
CREATED:20210729T125057Z
LAST-MODIFIED:20210729T125057Z
UID:4461-1629504000-1629590399@parroquialosremediosyaiza.org
SUMMARY:San Pío X
DESCRIPTION:
URL:https://parroquialosremediosyaiza.org/evento/san-pio-x-2/
CATEGORIES:Santoral
END:VEVENT
END:VCALENDAR