BEGIN:VCALENDAR
VERSION:2.0
PRODID:-//Parroquia Los Remedios - ECPv6.15.17//NONSGML v1.0//EN
CALSCALE:GREGORIAN
METHOD:PUBLISH
X-ORIGINAL-URL:https://parroquialosremediosyaiza.org
X-WR-CALDESC:Eventos para Parroquia Los Remedios
REFRESH-INTERVAL;VALUE=DURATION:PT1H
X-Robots-Tag:noindex
X-PUBLISHED-TTL:PT1H
BEGIN:VTIMEZONE
TZID:Europe/London
BEGIN:DAYLIGHT
TZOFFSETFROM:+0000
TZOFFSETTO:+0100
TZNAME:BST
DTSTART:20190331T010000
END:DAYLIGHT
BEGIN:STANDARD
TZOFFSETFROM:+0100
TZOFFSETTO:+0000
TZNAME:GMT
DTSTART:20191027T010000
END:STANDARD
BEGIN:DAYLIGHT
TZOFFSETFROM:+0000
TZOFFSETTO:+0100
TZNAME:BST
DTSTART:20200329T010000
END:DAYLIGHT
BEGIN:STANDARD
TZOFFSETFROM:+0100
TZOFFSETTO:+0000
TZNAME:GMT
DTSTART:20201025T010000
END:STANDARD
BEGIN:DAYLIGHT
TZOFFSETFROM:+0000
TZOFFSETTO:+0100
TZNAME:BST
DTSTART:20210328T010000
END:DAYLIGHT
BEGIN:STANDARD
TZOFFSETFROM:+0100
TZOFFSETTO:+0000
TZNAME:GMT
DTSTART:20211031T010000
END:STANDARD
BEGIN:DAYLIGHT
TZOFFSETFROM:+0000
TZOFFSETTO:+0100
TZNAME:BST
DTSTART:20220327T010000
END:DAYLIGHT
BEGIN:STANDARD
TZOFFSETFROM:+0100
TZOFFSETTO:+0000
TZNAME:GMT
DTSTART:20221030T010000
END:STANDARD
END:VTIMEZONE
BEGIN:VEVENT
DTSTART;TZID=Europe/London:20210110T080000
DTEND;TZID=Europe/London:20210110T170000
DTSTAMP:20260425T224914
CREATED:20201218T093303Z
LAST-MODIFIED:20201218T093303Z
UID:3933-1610265600-1610298000@parroquialosremediosyaiza.org
SUMMARY:Bautismo del Señor
DESCRIPTION:MISAS 10 y 19:30 h. Playa Blanca – 12 h. Yaiza – 18 h. Femés
URL:https://parroquialosremediosyaiza.org/evento/bautismo-del-senor/
CATEGORIES:Santoral
END:VEVENT
BEGIN:VEVENT
DTSTART;TZID=Europe/London:20210109T080000
DTEND;TZID=Europe/London:20210109T170000
DTSTAMP:20260425T224914
CREATED:20201218T093042Z
LAST-MODIFIED:20201218T093042Z
UID:3931-1610179200-1610211600@parroquialosremediosyaiza.org
SUMMARY:San Eulogio
DESCRIPTION:MISA 18 h. Uga  y 19:30 h. Las Breñas
URL:https://parroquialosremediosyaiza.org/evento/san-eulogio/
CATEGORIES:Santoral
END:VEVENT
BEGIN:VEVENT
DTSTART;TZID=Europe/London:20210108T080000
DTEND;TZID=Europe/London:20210108T170000
DTSTAMP:20260425T224914
CREATED:20201218T092934Z
LAST-MODIFIED:20201218T092934Z
UID:3929-1610092800-1610125200@parroquialosremediosyaiza.org
SUMMARY:San Severino
DESCRIPTION:
URL:https://parroquialosremediosyaiza.org/evento/san-severino/
CATEGORIES:Santoral
END:VEVENT
BEGIN:VEVENT
DTSTART;TZID=Europe/London:20210107T080000
DTEND;TZID=Europe/London:20210107T170000
DTSTAMP:20260425T224914
CREATED:20201218T092858Z
LAST-MODIFIED:20201218T092858Z
UID:3927-1610006400-1610038800@parroquialosremediosyaiza.org
SUMMARY:San Raimundo
DESCRIPTION:Despacho a las 17:30 h – MISA a las 19  h.  Yaiza
URL:https://parroquialosremediosyaiza.org/evento/san-raimundo/
CATEGORIES:Santoral
END:VEVENT
BEGIN:VEVENT
DTSTART;TZID=Europe/London:20210106T080000
DTEND;TZID=Europe/London:20210106T170000
DTSTAMP:20260425T224914
CREATED:20201218T092754Z
LAST-MODIFIED:20201218T092754Z
UID:3924-1609920000-1609952400@parroquialosremediosyaiza.org
SUMMARY:Epifanía del Señor
DESCRIPTION:MISAS 10 y 19:30 h. Playa Blanca – 12 h. Yaiza
URL:https://parroquialosremediosyaiza.org/evento/epifania-del-senor/
CATEGORIES:Santoral
END:VEVENT
BEGIN:VEVENT
DTSTART;TZID=Europe/London:20210105T080000
DTEND;TZID=Europe/London:20210105T170000
DTSTAMP:20260425T224914
CREATED:20201218T092636Z
LAST-MODIFIED:20201218T092636Z
UID:3922-1609833600-1609866000@parroquialosremediosyaiza.org
SUMMARY:San Telesforo
DESCRIPTION:
URL:https://parroquialosremediosyaiza.org/evento/san-telesforo/
CATEGORIES:Santoral
END:VEVENT
BEGIN:VEVENT
DTSTART;TZID=Europe/London:20210104T080000
DTEND;TZID=Europe/London:20210104T170000
DTSTAMP:20260425T224914
CREATED:20201218T092534Z
LAST-MODIFIED:20201218T092605Z
UID:3920-1609747200-1609779600@parroquialosremediosyaiza.org
SUMMARY:San Manuel González García
DESCRIPTION:
URL:https://parroquialosremediosyaiza.org/evento/san-manuel-gonzalez-garcia/
CATEGORIES:Santoral
END:VEVENT
BEGIN:VEVENT
DTSTART;TZID=Europe/London:20210103T080000
DTEND;TZID=Europe/London:20210103T170000
DTSTAMP:20260425T224914
CREATED:20201218T092358Z
LAST-MODIFIED:20201218T092559Z
UID:3918-1609660800-1609693200@parroquialosremediosyaiza.org
SUMMARY:II NAVIDAD y Santa Genoveva
DESCRIPTION:MISAS 10  y 19:30 h. Playa Blanca – 12 h. Yaiza – 18 h. Femés
URL:https://parroquialosremediosyaiza.org/evento/ii-navidad-y-santa-genoveva/
CATEGORIES:Santoral
END:VEVENT
BEGIN:VEVENT
DTSTART;VALUE=DATE:20210102
DTEND;VALUE=DATE:20210104
DTSTAMP:20260425T224914
CREATED:20201218T092304Z
LAST-MODIFIED:20201218T092304Z
UID:3916-1609545600-1609718399@parroquialosremediosyaiza.org
SUMMARY:San Basilio y San Gregorio
DESCRIPTION:MISA 18 h. Uga y 19:30 h. Las Breñas
URL:https://parroquialosremediosyaiza.org/evento/san-basilio-y-san-gregorio/
CATEGORIES:Santoral
END:VEVENT
BEGIN:VEVENT
DTSTART;VALUE=DATE:20210101
DTEND;VALUE=DATE:20210103
DTSTAMP:20260425T224914
CREATED:20201218T091847Z
LAST-MODIFIED:20201218T091847Z
UID:3914-1609459200-1609631999@parroquialosremediosyaiza.org
SUMMARY:Santa Mª Madre de Dios
DESCRIPTION:MISAS 10 y 19:30 h. Playa Blanca – 12 h. Yaiza
URL:https://parroquialosremediosyaiza.org/evento/santa-ma-madre-de-dios/
CATEGORIES:Santoral
END:VEVENT
BEGIN:VEVENT
DTSTART;VALUE=DATE:20201231
DTEND;VALUE=DATE:20210102
DTSTAMP:20260425T224914
CREATED:20201202T092737Z
LAST-MODIFIED:20201202T092737Z
UID:3907-1609372800-1609545599@parroquialosremediosyaiza.org
SUMMARY:San Silvestre
DESCRIPTION:Despacho 17:30 MISA  19 h. Yaiza
URL:https://parroquialosremediosyaiza.org/evento/san-silvestre/
CATEGORIES:Santoral
END:VEVENT
BEGIN:VEVENT
DTSTART;VALUE=DATE:20201230
DTEND;VALUE=DATE:20210101
DTSTAMP:20260425T224914
CREATED:20201202T092656Z
LAST-MODIFIED:20201202T092656Z
UID:3905-1609286400-1609459199@parroquialosremediosyaiza.org
SUMMARY:San Honorio
DESCRIPTION:
URL:https://parroquialosremediosyaiza.org/evento/san-honorio/
CATEGORIES:Santoral
END:VEVENT
BEGIN:VEVENT
DTSTART;VALUE=DATE:20201229
DTEND;VALUE=DATE:20201231
DTSTAMP:20260425T224914
CREATED:20201202T092551Z
LAST-MODIFIED:20201202T092620Z
UID:3903-1609200000-1609372799@parroquialosremediosyaiza.org
SUMMARY:San Tomás Becket
DESCRIPTION:MISA 19:30 h. Playa Blanca
URL:https://parroquialosremediosyaiza.org/evento/san-tomas-becket/
CATEGORIES:Santoral
END:VEVENT
BEGIN:VEVENT
DTSTART;VALUE=DATE:20201228
DTEND;VALUE=DATE:20201230
DTSTAMP:20260425T224914
CREATED:20201202T092331Z
LAST-MODIFIED:20201202T092331Z
UID:3901-1609113600-1609286399@parroquialosremediosyaiza.org
SUMMARY:SANTOS INOCENTES
DESCRIPTION:
URL:https://parroquialosremediosyaiza.org/evento/santos-inocentes/
CATEGORIES:Santoral
END:VEVENT
BEGIN:VEVENT
DTSTART;VALUE=DATE:20201227
DTEND;VALUE=DATE:20201229
DTSTAMP:20260425T224914
CREATED:20201202T092243Z
LAST-MODIFIED:20201202T092243Z
UID:3899-1609027200-1609199999@parroquialosremediosyaiza.org
SUMMARY:Sagrada Familia
DESCRIPTION:MISA 10 y 19:30 h. Playa Blanca- 12 h Yaiza-18 h. Femés
URL:https://parroquialosremediosyaiza.org/evento/sagrada-familia/
CATEGORIES:Santoral
END:VEVENT
BEGIN:VEVENT
DTSTART;VALUE=DATE:20201226
DTEND;VALUE=DATE:20201228
DTSTAMP:20260425T224914
CREATED:20201202T092159Z
LAST-MODIFIED:20201202T092159Z
UID:3897-1608940800-1609113599@parroquialosremediosyaiza.org
SUMMARY:San Esteban
DESCRIPTION:MISA 18 h. UGA  –   19:30  h. LAS BREÑAS
URL:https://parroquialosremediosyaiza.org/evento/san-esteban/
CATEGORIES:Santoral
END:VEVENT
BEGIN:VEVENT
DTSTART;VALUE=DATE:20201225
DTEND;VALUE=DATE:20201227
DTSTAMP:20260425T224914
CREATED:20201202T092119Z
LAST-MODIFIED:20201202T092119Z
UID:3895-1608854400-1609027199@parroquialosremediosyaiza.org
SUMMARY:NAVIDAD
DESCRIPTION:MISA 10 y 19:30 h. Playa Blanca -12 h. Yaiza- 18h. FEMÉS
URL:https://parroquialosremediosyaiza.org/evento/navidad/
CATEGORIES:Santoral
END:VEVENT
BEGIN:VEVENT
DTSTART;VALUE=DATE:20201224
DTEND;VALUE=DATE:20201226
DTSTAMP:20260425T224914
CREATED:20201202T092018Z
LAST-MODIFIED:20201202T092018Z
UID:3893-1608768000-1608940799@parroquialosremediosyaiza.org
SUMMARY:NOCHEBUENA\, San Luciano y Santa Adela
DESCRIPTION:MISA: 19:30h. PLAYA BLANCA – 23 h. YAIZA
URL:https://parroquialosremediosyaiza.org/evento/nochebuena-san-luciano-y-santa-adela/
CATEGORIES:Santoral
END:VEVENT
BEGIN:VEVENT
DTSTART;VALUE=DATE:20201223
DTEND;VALUE=DATE:20201225
DTSTAMP:20260425T224914
CREATED:20201202T091901Z
LAST-MODIFIED:20201202T091901Z
UID:3891-1608681600-1608854399@parroquialosremediosyaiza.org
SUMMARY:Santa Ana y San Antonio de Sira
DESCRIPTION:MISA   19:30 h. Playa Blanca – ORACIÓN
URL:https://parroquialosremediosyaiza.org/evento/santa-ana-y-san-antonio-de-sira/
CATEGORIES:Santoral
END:VEVENT
BEGIN:VEVENT
DTSTART;VALUE=DATE:20201222
DTEND;VALUE=DATE:20201224
DTSTAMP:20260425T224914
CREATED:20201202T091800Z
LAST-MODIFIED:20201202T091800Z
UID:3889-1608595200-1608767999@parroquialosremediosyaiza.org
SUMMARY:San Honorato
DESCRIPTION:MISA   19:30 h. Playa Blanca – ORACIÓN
URL:https://parroquialosremediosyaiza.org/evento/san-honorato/
CATEGORIES:Santoral
END:VEVENT
BEGIN:VEVENT
DTSTART;VALUE=DATE:20201221
DTEND;VALUE=DATE:20201223
DTSTAMP:20260425T224914
CREATED:20201201T140228Z
LAST-MODIFIED:20201201T140228Z
UID:3887-1608508800-1608681599@parroquialosremediosyaiza.org
SUMMARY:San Pedro Canisio
DESCRIPTION:
URL:https://parroquialosremediosyaiza.org/evento/san-pedro-canisio/
CATEGORIES:Santoral
END:VEVENT
BEGIN:VEVENT
DTSTART;VALUE=DATE:20201220
DTEND;VALUE=DATE:20201222
DTSTAMP:20260425T224914
CREATED:20201201T140116Z
LAST-MODIFIED:20201201T140116Z
UID:3885-1608422400-1608595199@parroquialosremediosyaiza.org
SUMMARY:IV ADVIENTO\, San Eugenio\, San Teófilo y San Macario
DESCRIPTION:MISA Niños-Jóvenes 10-19:30h. Playa Blanca-12 h Yaiza-18 h. Femés
URL:https://parroquialosremediosyaiza.org/evento/iv-adviento-san-eugenio-san-teofilo-y-san-macario/
CATEGORIES:Santoral
END:VEVENT
BEGIN:VEVENT
DTSTART;VALUE=DATE:20201219
DTEND;VALUE=DATE:20201221
DTSTAMP:20260425T224914
CREATED:20201201T135930Z
LAST-MODIFIED:20201201T140137Z
UID:3883-1608336000-1608508799@parroquialosremediosyaiza.org
SUMMARY:San Anastasio
DESCRIPTION:MISA 18 h. UGA  –   19:30  h. LAS BREÑAS
URL:https://parroquialosremediosyaiza.org/evento/san-anastasio/
CATEGORIES:Santoral
END:VEVENT
BEGIN:VEVENT
DTSTART;VALUE=DATE:20201218
DTEND;VALUE=DATE:20201219
DTSTAMP:20260425T224914
CREATED:20201201T135833Z
LAST-MODIFIED:20201201T135833Z
UID:3881-1608249600-1608335999@parroquialosremediosyaiza.org
SUMMARY:Virgen de la O
DESCRIPTION:
URL:https://parroquialosremediosyaiza.org/evento/virgen-de-la-o/
CATEGORIES:Santoral
END:VEVENT
BEGIN:VEVENT
DTSTART;VALUE=DATE:20201217
DTEND;VALUE=DATE:20201218
DTSTAMP:20260425T224914
CREATED:20201201T135756Z
LAST-MODIFIED:20201201T135756Z
UID:3879-1608163200-1608249599@parroquialosremediosyaiza.org
SUMMARY:San Lázaro
DESCRIPTION:Despacho 17:30    MISA  19 h. Yaiza – ORACIÓN
URL:https://parroquialosremediosyaiza.org/evento/san-lazaro/
CATEGORIES:Santoral
END:VEVENT
BEGIN:VEVENT
DTSTART;VALUE=DATE:20201216
DTEND;VALUE=DATE:20201217
DTSTAMP:20260425T224914
CREATED:20201201T135712Z
LAST-MODIFIED:20201201T135712Z
UID:3877-1608076800-1608163199@parroquialosremediosyaiza.org
SUMMARY:Santa Adelaida
DESCRIPTION:
URL:https://parroquialosremediosyaiza.org/evento/santa-adelaida/
CATEGORIES:Santoral
END:VEVENT
BEGIN:VEVENT
DTSTART;VALUE=DATE:20201215
DTEND;VALUE=DATE:20201216
DTSTAMP:20260425T224914
CREATED:20201201T135630Z
LAST-MODIFIED:20201201T135630Z
UID:3875-1607990400-1608076799@parroquialosremediosyaiza.org
SUMMARY:San Jacob
DESCRIPTION:MISA 19:30 h. Playa Blanca – ORACIÓN
URL:https://parroquialosremediosyaiza.org/evento/san-jacob/
CATEGORIES:Santoral
END:VEVENT
BEGIN:VEVENT
DTSTART;VALUE=DATE:20201214
DTEND;VALUE=DATE:20201215
DTSTAMP:20260425T224914
CREATED:20201201T135442Z
LAST-MODIFIED:20201201T135526Z
UID:3873-1607904000-1607990399@parroquialosremediosyaiza.org
SUMMARY:San Juan de la Cruz
DESCRIPTION:MISA 19 h. Yaiza
URL:https://parroquialosremediosyaiza.org/evento/san-juan-de-la-cruz/
CATEGORIES:Santoral
END:VEVENT
BEGIN:VEVENT
DTSTART;VALUE=DATE:20201213
DTEND;VALUE=DATE:20201214
DTSTAMP:20260425T224914
CREATED:20201201T135350Z
LAST-MODIFIED:20201201T135350Z
UID:3871-1607817600-1607903999@parroquialosremediosyaiza.org
SUMMARY:III ADVIENTO\, Santa Lucía
DESCRIPTION:Reunión Catequistas y Cena \nMISA 10 y 19:30 h. Playa Blanca- 12 h. Yaiza-18 h. Femés
URL:https://parroquialosremediosyaiza.org/evento/iii-adviento-santa-lucia/
CATEGORIES:Santoral
END:VEVENT
BEGIN:VEVENT
DTSTART;VALUE=DATE:20201212
DTEND;VALUE=DATE:20201213
DTSTAMP:20260425T224914
CREATED:20201201T135240Z
LAST-MODIFIED:20201201T135240Z
UID:3869-1607731200-1607817599@parroquialosremediosyaiza.org
SUMMARY:San Leoncio y San Guido
DESCRIPTION:MISA 18 h. UGA  –   19:30 h. LAS BREÑAS
URL:https://parroquialosremediosyaiza.org/evento/san-leoncio-y-san-guido/
CATEGORIES:Santoral
END:VEVENT
END:VCALENDAR