BEGIN:VCALENDAR
VERSION:2.0
PRODID:-//Parroquia Los Remedios - ECPv6.15.17//NONSGML v1.0//EN
CALSCALE:GREGORIAN
METHOD:PUBLISH
X-ORIGINAL-URL:https://parroquialosremediosyaiza.org
X-WR-CALDESC:Eventos para Parroquia Los Remedios
REFRESH-INTERVAL;VALUE=DURATION:PT1H
X-Robots-Tag:noindex
X-PUBLISHED-TTL:PT1H
BEGIN:VTIMEZONE
TZID:Europe/London
BEGIN:DAYLIGHT
TZOFFSETFROM:+0000
TZOFFSETTO:+0100
TZNAME:BST
DTSTART:20190331T010000
END:DAYLIGHT
BEGIN:STANDARD
TZOFFSETFROM:+0100
TZOFFSETTO:+0000
TZNAME:GMT
DTSTART:20191027T010000
END:STANDARD
BEGIN:DAYLIGHT
TZOFFSETFROM:+0000
TZOFFSETTO:+0100
TZNAME:BST
DTSTART:20200329T010000
END:DAYLIGHT
BEGIN:STANDARD
TZOFFSETFROM:+0100
TZOFFSETTO:+0000
TZNAME:GMT
DTSTART:20201025T010000
END:STANDARD
BEGIN:DAYLIGHT
TZOFFSETFROM:+0000
TZOFFSETTO:+0100
TZNAME:BST
DTSTART:20210328T010000
END:DAYLIGHT
BEGIN:STANDARD
TZOFFSETFROM:+0100
TZOFFSETTO:+0000
TZNAME:GMT
DTSTART:20211031T010000
END:STANDARD
END:VTIMEZONE
BEGIN:VEVENT
DTSTART;VALUE=DATE:20201217
DTEND;VALUE=DATE:20201218
DTSTAMP:20260426T014216
CREATED:20201201T135756Z
LAST-MODIFIED:20201201T135756Z
UID:3879-1608163200-1608249599@parroquialosremediosyaiza.org
SUMMARY:San Lázaro
DESCRIPTION:Despacho 17:30    MISA  19 h. Yaiza – ORACIÓN
URL:https://parroquialosremediosyaiza.org/evento/san-lazaro/
CATEGORIES:Santoral
END:VEVENT
BEGIN:VEVENT
DTSTART;VALUE=DATE:20201216
DTEND;VALUE=DATE:20201217
DTSTAMP:20260426T014216
CREATED:20201201T135712Z
LAST-MODIFIED:20201201T135712Z
UID:3877-1608076800-1608163199@parroquialosremediosyaiza.org
SUMMARY:Santa Adelaida
DESCRIPTION:
URL:https://parroquialosremediosyaiza.org/evento/santa-adelaida/
CATEGORIES:Santoral
END:VEVENT
BEGIN:VEVENT
DTSTART;VALUE=DATE:20201215
DTEND;VALUE=DATE:20201216
DTSTAMP:20260426T014216
CREATED:20201201T135630Z
LAST-MODIFIED:20201201T135630Z
UID:3875-1607990400-1608076799@parroquialosremediosyaiza.org
SUMMARY:San Jacob
DESCRIPTION:MISA 19:30 h. Playa Blanca – ORACIÓN
URL:https://parroquialosremediosyaiza.org/evento/san-jacob/
CATEGORIES:Santoral
END:VEVENT
BEGIN:VEVENT
DTSTART;VALUE=DATE:20201214
DTEND;VALUE=DATE:20201215
DTSTAMP:20260426T014216
CREATED:20201201T135442Z
LAST-MODIFIED:20201201T135526Z
UID:3873-1607904000-1607990399@parroquialosremediosyaiza.org
SUMMARY:San Juan de la Cruz
DESCRIPTION:MISA 19 h. Yaiza
URL:https://parroquialosremediosyaiza.org/evento/san-juan-de-la-cruz/
CATEGORIES:Santoral
END:VEVENT
BEGIN:VEVENT
DTSTART;VALUE=DATE:20201213
DTEND;VALUE=DATE:20201214
DTSTAMP:20260426T014216
CREATED:20201201T135350Z
LAST-MODIFIED:20201201T135350Z
UID:3871-1607817600-1607903999@parroquialosremediosyaiza.org
SUMMARY:III ADVIENTO\, Santa Lucía
DESCRIPTION:Reunión Catequistas y Cena \nMISA 10 y 19:30 h. Playa Blanca- 12 h. Yaiza-18 h. Femés
URL:https://parroquialosremediosyaiza.org/evento/iii-adviento-santa-lucia/
CATEGORIES:Santoral
END:VEVENT
BEGIN:VEVENT
DTSTART;VALUE=DATE:20201212
DTEND;VALUE=DATE:20201213
DTSTAMP:20260426T014216
CREATED:20201201T135240Z
LAST-MODIFIED:20201201T135240Z
UID:3869-1607731200-1607817599@parroquialosremediosyaiza.org
SUMMARY:San Leoncio y San Guido
DESCRIPTION:MISA 18 h. UGA  –   19:30 h. LAS BREÑAS
URL:https://parroquialosremediosyaiza.org/evento/san-leoncio-y-san-guido/
CATEGORIES:Santoral
END:VEVENT
BEGIN:VEVENT
DTSTART;VALUE=DATE:20201211
DTEND;VALUE=DATE:20201212
DTSTAMP:20260426T014216
CREATED:20201201T135124Z
LAST-MODIFIED:20201201T135124Z
UID:3867-1607644800-1607731199@parroquialosremediosyaiza.org
SUMMARY:San Dámaso
DESCRIPTION:
URL:https://parroquialosremediosyaiza.org/evento/san-damaso/
CATEGORIES:Santoral
END:VEVENT
BEGIN:VEVENT
DTSTART;VALUE=DATE:20201210
DTEND;VALUE=DATE:20201211
DTSTAMP:20260426T014216
CREATED:20201201T135028Z
LAST-MODIFIED:20201201T135028Z
UID:3865-1607558400-1607644799@parroquialosremediosyaiza.org
SUMMARY:Santa Eulalia
DESCRIPTION:Despacho: 17:30 h.  MISA 19 h. Yaiza -ORACIÓN
URL:https://parroquialosremediosyaiza.org/evento/santa-eulalia/
CATEGORIES:Santoral
END:VEVENT
BEGIN:VEVENT
DTSTART;VALUE=DATE:20201209
DTEND;VALUE=DATE:20201210
DTSTAMP:20260426T014216
CREATED:20201201T134844Z
LAST-MODIFIED:20201201T134844Z
UID:3863-1607472000-1607558399@parroquialosremediosyaiza.org
SUMMARY:San Juan Diego
DESCRIPTION:
URL:https://parroquialosremediosyaiza.org/evento/san-juan-diego/
CATEGORIES:Santoral
END:VEVENT
BEGIN:VEVENT
DTSTART;VALUE=DATE:20201208
DTEND;VALUE=DATE:20201209
DTSTAMP:20260426T014216
CREATED:20201201T134618Z
LAST-MODIFIED:20201201T134618Z
UID:3861-1607385600-1607471999@parroquialosremediosyaiza.org
SUMMARY:Inmaculada Concepción
DESCRIPTION:MISA 10 y 19:30  Playa Blanca- 12 h. Yaiza
URL:https://parroquialosremediosyaiza.org/evento/inmaculada-concepcion/
CATEGORIES:Santoral
END:VEVENT
BEGIN:VEVENT
DTSTART;VALUE=DATE:20201207
DTEND;VALUE=DATE:20201208
DTSTAMP:20260426T014216
CREATED:20201201T134523Z
LAST-MODIFIED:20201201T134523Z
UID:3859-1607299200-1607385599@parroquialosremediosyaiza.org
SUMMARY:San Ambrosio
DESCRIPTION:
URL:https://parroquialosremediosyaiza.org/evento/san-ambrosio/
CATEGORIES:Santoral
END:VEVENT
BEGIN:VEVENT
DTSTART;VALUE=DATE:20201206
DTEND;VALUE=DATE:20201207
DTSTAMP:20260426T014216
CREATED:20201201T134449Z
LAST-MODIFIED:20201201T134449Z
UID:3857-1607212800-1607299199@parroquialosremediosyaiza.org
SUMMARY:II  ADVIENTO – San Nicolás de Bari
DESCRIPTION:MISA 10 y 19:30 h. Playa Blanca- 12 h Yaiza-18 h. Femés
URL:https://parroquialosremediosyaiza.org/evento/ii-adviento-san-nicolas-de-bari/
CATEGORIES:Santoral
END:VEVENT
BEGIN:VEVENT
DTSTART;VALUE=DATE:20201205
DTEND;VALUE=DATE:20201206
DTSTAMP:20260426T014216
CREATED:20201201T134326Z
LAST-MODIFIED:20201201T134326Z
UID:3854-1607126400-1607212799@parroquialosremediosyaiza.org
SUMMARY:San Mauro
DESCRIPTION:MISA 18 h. UGA  –   19:30  h. LAS BREÑAS
URL:https://parroquialosremediosyaiza.org/evento/san-mauro/
CATEGORIES:Santoral
END:VEVENT
BEGIN:VEVENT
DTSTART;VALUE=DATE:20201204
DTEND;VALUE=DATE:20201205
DTSTAMP:20260426T014216
CREATED:20201201T134142Z
LAST-MODIFIED:20201201T134212Z
UID:3852-1607040000-1607126399@parroquialosremediosyaiza.org
SUMMARY:San Juan Damasceno
DESCRIPTION:
URL:https://parroquialosremediosyaiza.org/evento/s-juan-damasceno/
CATEGORIES:Santoral
END:VEVENT
BEGIN:VEVENT
DTSTART;VALUE=DATE:20201203
DTEND;VALUE=DATE:20201204
DTSTAMP:20260426T014216
CREATED:20201201T134059Z
LAST-MODIFIED:20201201T134059Z
UID:3850-1606953600-1607039999@parroquialosremediosyaiza.org
SUMMARY:San Francisco Javier
DESCRIPTION:Despacho: 17:30 h.  MISA 19 h. Yaiza- ORACIÓN
URL:https://parroquialosremediosyaiza.org/evento/san-francisco-javier/
CATEGORIES:Santoral
END:VEVENT
BEGIN:VEVENT
DTSTART;VALUE=DATE:20201202
DTEND;VALUE=DATE:20201203
DTSTAMP:20260426T014216
CREATED:20201201T133943Z
LAST-MODIFIED:20201201T133943Z
UID:3848-1606867200-1606953599@parroquialosremediosyaiza.org
SUMMARY:San Cromacio y Santa Bibiana
DESCRIPTION:
URL:https://parroquialosremediosyaiza.org/evento/san-cromacio-y-santa-bibiana/
CATEGORIES:Santoral
END:VEVENT
BEGIN:VEVENT
DTSTART;TZID=Europe/London:20201201T000000
DTEND;TZID=Europe/London:20201201T235900
DTSTAMP:20260426T014216
CREATED:20201201T133715Z
LAST-MODIFIED:20201201T133715Z
UID:3846-1606780800-1606867140@parroquialosremediosyaiza.org
SUMMARY:San Eloy
DESCRIPTION:MISA 19:30 h. Playa Blanca – ORACIÓN
URL:https://parroquialosremediosyaiza.org/evento/san-eloy/
CATEGORIES:Santoral
END:VEVENT
BEGIN:VEVENT
DTSTART;VALUE=DATE:20201130
DTEND;VALUE=DATE:20201201
DTSTAMP:20260426T014216
CREATED:20200616T092112Z
LAST-MODIFIED:20200616T092112Z
UID:3671-1606694400-1606780799@parroquialosremediosyaiza.org
SUMMARY:San Andrés Apóstol
DESCRIPTION:
URL:https://parroquialosremediosyaiza.org/evento/san-andres-apostol/
CATEGORIES:Santoral
END:VEVENT
BEGIN:VEVENT
DTSTART;VALUE=DATE:20201129
DTEND;VALUE=DATE:20201130
DTSTAMP:20260426T014216
CREATED:20200616T092044Z
LAST-MODIFIED:20201029T112829Z
UID:3669-1606608000-1606694399@parroquialosremediosyaiza.org
SUMMARY:I  ADVIENTO\, San Filomeno\, Santa Iluminada
DESCRIPTION:MISAS  10 y 19:30 h. Playa Blanca – 12 h. Yaiza – 18 h. Femés
URL:https://parroquialosremediosyaiza.org/evento/i-adviento-san-filomeno-santa-iluminada/
CATEGORIES:Santoral
END:VEVENT
BEGIN:VEVENT
DTSTART;VALUE=DATE:20201128
DTEND;VALUE=DATE:20201129
DTSTAMP:20260426T014216
CREATED:20200616T091946Z
LAST-MODIFIED:20201029T112801Z
UID:3667-1606521600-1606607999@parroquialosremediosyaiza.org
SUMMARY:Santa Catalina Labouré
DESCRIPTION:
URL:https://parroquialosremediosyaiza.org/evento/santa-catalina-laboure/
CATEGORIES:Santoral
END:VEVENT
BEGIN:VEVENT
DTSTART;VALUE=DATE:20201127
DTEND;VALUE=DATE:20201128
DTSTAMP:20260426T014216
CREATED:20200616T091907Z
LAST-MODIFIED:20201029T112738Z
UID:3665-1606435200-1606521599@parroquialosremediosyaiza.org
SUMMARY:Virgen Milagrosa
DESCRIPTION:
URL:https://parroquialosremediosyaiza.org/evento/virgen-milagrosa/
CATEGORIES:Santoral
END:VEVENT
BEGIN:VEVENT
DTSTART;VALUE=DATE:20201125
DTEND;VALUE=DATE:20201126
DTSTAMP:20260426T014216
CREATED:20200616T091713Z
LAST-MODIFIED:20200616T091713Z
UID:3661-1606262400-1606348799@parroquialosremediosyaiza.org
SUMMARY:Santa Catalina de Alejandría
DESCRIPTION:
URL:https://parroquialosremediosyaiza.org/evento/santa-catalina-de-alejandria/
CATEGORIES:Santoral
END:VEVENT
BEGIN:VEVENT
DTSTART;VALUE=DATE:20201124
DTEND;VALUE=DATE:20201125
DTSTAMP:20260426T014216
CREATED:20200616T091634Z
LAST-MODIFIED:20201029T112705Z
UID:3659-1606176000-1606262399@parroquialosremediosyaiza.org
SUMMARY:San Andrés D-L
DESCRIPTION:MISA 19:30h. Playa Blanca y ORACIÓN
URL:https://parroquialosremediosyaiza.org/evento/san-andres-d-l/
CATEGORIES:Santoral
END:VEVENT
BEGIN:VEVENT
DTSTART;VALUE=DATE:20201123
DTEND;VALUE=DATE:20201124
DTSTAMP:20260426T014216
CREATED:20200616T091546Z
LAST-MODIFIED:20200616T091546Z
UID:3657-1606089600-1606175999@parroquialosremediosyaiza.org
SUMMARY:San Clemente\, San Columbano
DESCRIPTION:
URL:https://parroquialosremediosyaiza.org/evento/san-clemente-san-columbano/
CATEGORIES:Santoral
END:VEVENT
BEGIN:VEVENT
DTSTART;VALUE=DATE:20201122
DTEND;VALUE=DATE:20201123
DTSTAMP:20260426T014216
CREATED:20200616T091345Z
LAST-MODIFIED:20201029T112615Z
UID:3655-1606003200-1606089599@parroquialosremediosyaiza.org
SUMMARY:JESUCRISTO REY DEL UNIVERSO
DESCRIPTION:MISAS 10-19:30 h. Playa Blanca –12 h. Yaiza- 18 h. Femés
URL:https://parroquialosremediosyaiza.org/evento/jesucristo-rey-del-universo/
CATEGORIES:Santoral
END:VEVENT
BEGIN:VEVENT
DTSTART;VALUE=DATE:20201121
DTEND;VALUE=DATE:20201122
DTSTAMP:20260426T014216
CREATED:20200616T091306Z
LAST-MODIFIED:20201029T112550Z
UID:3653-1605916800-1606003199@parroquialosremediosyaiza.org
SUMMARY:PRESENTACIÓN MARÍA
DESCRIPTION:
URL:https://parroquialosremediosyaiza.org/evento/presentacion-maria/
CATEGORIES:Santoral
END:VEVENT
BEGIN:VEVENT
DTSTART;VALUE=DATE:20201120
DTEND;VALUE=DATE:20201121
DTSTAMP:20260426T014216
CREATED:20200616T091218Z
LAST-MODIFIED:20201029T112530Z
UID:3651-1605830400-1605916799@parroquialosremediosyaiza.org
SUMMARY:San Félix de Valois
DESCRIPTION:
URL:https://parroquialosremediosyaiza.org/evento/san-felix-de-valois/
CATEGORIES:Santoral
END:VEVENT
BEGIN:VEVENT
DTSTART;VALUE=DATE:20201119
DTEND;VALUE=DATE:20201120
DTSTAMP:20260426T014216
CREATED:20200616T090652Z
LAST-MODIFIED:20201029T112508Z
UID:3647-1605744000-1605830399@parroquialosremediosyaiza.org
SUMMARY:San Rafael Kalinowski
DESCRIPTION:Despacho 17:30 h. y  MISA 19 h. Yaiza y FORMACIÓN
URL:https://parroquialosremediosyaiza.org/evento/san-rafael-kalinowski/
CATEGORIES:Santoral
END:VEVENT
BEGIN:VEVENT
DTSTART;VALUE=DATE:20201118
DTEND;VALUE=DATE:20201119
DTSTAMP:20260426T014216
CREATED:20200616T090609Z
LAST-MODIFIED:20200616T090609Z
UID:3645-1605657600-1605743999@parroquialosremediosyaiza.org
SUMMARY:BASÍLICAS PEDRO Y PABLO
DESCRIPTION:
URL:https://parroquialosremediosyaiza.org/evento/basilicas-pedro-y-pablo/
CATEGORIES:Santoral
END:VEVENT
BEGIN:VEVENT
DTSTART;VALUE=DATE:20201117
DTEND;VALUE=DATE:20201118
DTSTAMP:20260426T014216
CREATED:20200616T090533Z
LAST-MODIFIED:20201029T112435Z
UID:3643-1605571200-1605657599@parroquialosremediosyaiza.org
SUMMARY:Santa Isabel Hungría
DESCRIPTION:MISA 19:30h. Playa Blanca y FORMACIÓN
URL:https://parroquialosremediosyaiza.org/evento/santa-isabel-hungria/
CATEGORIES:Santoral
END:VEVENT
END:VCALENDAR