BEGIN:VCALENDAR
VERSION:2.0
PRODID:-//Parroquia Los Remedios - ECPv6.15.17//NONSGML v1.0//EN
CALSCALE:GREGORIAN
METHOD:PUBLISH
X-WR-CALNAME:Parroquia Los Remedios
X-ORIGINAL-URL:https://parroquialosremediosyaiza.org
X-WR-CALDESC:Eventos para Parroquia Los Remedios
REFRESH-INTERVAL;VALUE=DURATION:PT1H
X-Robots-Tag:noindex
X-PUBLISHED-TTL:PT1H
BEGIN:VTIMEZONE
TZID:Europe/London
BEGIN:DAYLIGHT
TZOFFSETFROM:+0000
TZOFFSETTO:+0100
TZNAME:BST
DTSTART:20190331T010000
END:DAYLIGHT
BEGIN:STANDARD
TZOFFSETFROM:+0100
TZOFFSETTO:+0000
TZNAME:GMT
DTSTART:20191027T010000
END:STANDARD
BEGIN:DAYLIGHT
TZOFFSETFROM:+0000
TZOFFSETTO:+0100
TZNAME:BST
DTSTART:20200329T010000
END:DAYLIGHT
BEGIN:STANDARD
TZOFFSETFROM:+0100
TZOFFSETTO:+0000
TZNAME:GMT
DTSTART:20201025T010000
END:STANDARD
BEGIN:DAYLIGHT
TZOFFSETFROM:+0000
TZOFFSETTO:+0100
TZNAME:BST
DTSTART:20210328T010000
END:DAYLIGHT
BEGIN:STANDARD
TZOFFSETFROM:+0100
TZOFFSETTO:+0000
TZNAME:GMT
DTSTART:20211031T010000
END:STANDARD
END:VTIMEZONE
BEGIN:VEVENT
DTSTART;VALUE=DATE:20201122
DTEND;VALUE=DATE:20201123
DTSTAMP:20260426T045103
CREATED:20200616T091345Z
LAST-MODIFIED:20201029T112615Z
UID:3655-1606003200-1606089599@parroquialosremediosyaiza.org
SUMMARY:JESUCRISTO REY DEL UNIVERSO
DESCRIPTION:MISAS 10-19:30 h. Playa Blanca –12 h. Yaiza- 18 h. Femés
URL:https://parroquialosremediosyaiza.org/evento/jesucristo-rey-del-universo/
CATEGORIES:Santoral
END:VEVENT
BEGIN:VEVENT
DTSTART;VALUE=DATE:20201121
DTEND;VALUE=DATE:20201122
DTSTAMP:20260426T045103
CREATED:20200616T091306Z
LAST-MODIFIED:20201029T112550Z
UID:3653-1605916800-1606003199@parroquialosremediosyaiza.org
SUMMARY:PRESENTACIÓN MARÍA
DESCRIPTION:
URL:https://parroquialosremediosyaiza.org/evento/presentacion-maria/
CATEGORIES:Santoral
END:VEVENT
BEGIN:VEVENT
DTSTART;VALUE=DATE:20201120
DTEND;VALUE=DATE:20201121
DTSTAMP:20260426T045103
CREATED:20200616T091218Z
LAST-MODIFIED:20201029T112530Z
UID:3651-1605830400-1605916799@parroquialosremediosyaiza.org
SUMMARY:San Félix de Valois
DESCRIPTION:
URL:https://parroquialosremediosyaiza.org/evento/san-felix-de-valois/
CATEGORIES:Santoral
END:VEVENT
BEGIN:VEVENT
DTSTART;VALUE=DATE:20201119
DTEND;VALUE=DATE:20201120
DTSTAMP:20260426T045103
CREATED:20200616T090652Z
LAST-MODIFIED:20201029T112508Z
UID:3647-1605744000-1605830399@parroquialosremediosyaiza.org
SUMMARY:San Rafael Kalinowski
DESCRIPTION:Despacho 17:30 h. y  MISA 19 h. Yaiza y FORMACIÓN
URL:https://parroquialosremediosyaiza.org/evento/san-rafael-kalinowski/
CATEGORIES:Santoral
END:VEVENT
BEGIN:VEVENT
DTSTART;VALUE=DATE:20201118
DTEND;VALUE=DATE:20201119
DTSTAMP:20260426T045103
CREATED:20200616T090609Z
LAST-MODIFIED:20200616T090609Z
UID:3645-1605657600-1605743999@parroquialosremediosyaiza.org
SUMMARY:BASÍLICAS PEDRO Y PABLO
DESCRIPTION:
URL:https://parroquialosremediosyaiza.org/evento/basilicas-pedro-y-pablo/
CATEGORIES:Santoral
END:VEVENT
BEGIN:VEVENT
DTSTART;VALUE=DATE:20201117
DTEND;VALUE=DATE:20201118
DTSTAMP:20260426T045103
CREATED:20200616T090533Z
LAST-MODIFIED:20201029T112435Z
UID:3643-1605571200-1605657599@parroquialosremediosyaiza.org
SUMMARY:Santa Isabel Hungría
DESCRIPTION:MISA 19:30h. Playa Blanca y FORMACIÓN
URL:https://parroquialosremediosyaiza.org/evento/santa-isabel-hungria/
CATEGORIES:Santoral
END:VEVENT
BEGIN:VEVENT
DTSTART;VALUE=DATE:20201116
DTEND;VALUE=DATE:20201117
DTSTAMP:20260426T045103
CREATED:20200616T090430Z
LAST-MODIFIED:20200616T090430Z
UID:3641-1605484800-1605571199@parroquialosremediosyaiza.org
SUMMARY:Santa Margarita de Escocia\, Santa Gertrudis
DESCRIPTION:
URL:https://parroquialosremediosyaiza.org/evento/santa-margarita-de-escocia-santa-gertrudis/
CATEGORIES:Santoral
END:VEVENT
BEGIN:VEVENT
DTSTART;VALUE=DATE:20201115
DTEND;VALUE=DATE:20201116
DTSTAMP:20260426T045103
CREATED:20200616T090206Z
LAST-MODIFIED:20201029T112356Z
UID:3639-1605398400-1605484799@parroquialosremediosyaiza.org
SUMMARY:XXXIII TIEMPO ORDINARIO\, San Alberto Magno
DESCRIPTION:Comuniones \nMISAS: 10 h.  y 19:30 h. Playa Blanca -12 h. Yaiza- 18 h. Femés
URL:https://parroquialosremediosyaiza.org/evento/xxxiii-tiempo-ordinario-san-alberto-magno/
CATEGORIES:Santoral
END:VEVENT
BEGIN:VEVENT
DTSTART;VALUE=DATE:20201114
DTEND;VALUE=DATE:20201115
DTSTAMP:20260426T045103
CREATED:20200616T090025Z
LAST-MODIFIED:20201029T112323Z
UID:3637-1605312000-1605398399@parroquialosremediosyaiza.org
SUMMARY:San Deodato
DESCRIPTION:
URL:https://parroquialosremediosyaiza.org/evento/san-deodato/
CATEGORIES:Santoral
END:VEVENT
BEGIN:VEVENT
DTSTART;VALUE=DATE:20201113
DTEND;VALUE=DATE:20201114
DTSTAMP:20260426T045103
CREATED:20200616T085816Z
LAST-MODIFIED:20201029T112301Z
UID:3635-1605225600-1605311999@parroquialosremediosyaiza.org
SUMMARY:San Leandro
DESCRIPTION:
URL:https://parroquialosremediosyaiza.org/evento/san-leandro/
CATEGORIES:Santoral
END:VEVENT
BEGIN:VEVENT
DTSTART;VALUE=DATE:20201112
DTEND;VALUE=DATE:20201113
DTSTAMP:20260426T045103
CREATED:20200616T085709Z
LAST-MODIFIED:20201029T112202Z
UID:3631-1605139200-1605225599@parroquialosremediosyaiza.org
SUMMARY:San Josafat
DESCRIPTION:Despacho 17:30 h. y MISA 19 h. Yaiza y ADORACIÓN
URL:https://parroquialosremediosyaiza.org/evento/san-josafat/
CATEGORIES:Santoral
END:VEVENT
BEGIN:VEVENT
DTSTART;VALUE=DATE:20201111
DTEND;VALUE=DATE:20201112
DTSTAMP:20260426T045103
CREATED:20200616T084947Z
LAST-MODIFIED:20200616T085233Z
UID:3620-1605052800-1605139199@parroquialosremediosyaiza.org
SUMMARY:San Martín de Tours
DESCRIPTION:
URL:https://parroquialosremediosyaiza.org/evento/san-martin-de-tours/
CATEGORIES:Santoral
END:VEVENT
BEGIN:VEVENT
DTSTART;VALUE=DATE:20201110
DTEND;VALUE=DATE:20201111
DTSTAMP:20260426T045103
CREATED:20200616T084737Z
LAST-MODIFIED:20201029T112112Z
UID:3617-1604966400-1605052799@parroquialosremediosyaiza.org
SUMMARY:San León Magno
DESCRIPTION:MISA  19:30h. Playa Blanca y ADORACIÓN
URL:https://parroquialosremediosyaiza.org/evento/san-leon-magno/
CATEGORIES:Santoral
END:VEVENT
BEGIN:VEVENT
DTSTART;VALUE=DATE:20201109
DTEND;VALUE=DATE:20201110
DTSTAMP:20260426T045103
CREATED:20200616T084636Z
LAST-MODIFIED:20210125T100917Z
UID:3609-1604880000-1604966399@parroquialosremediosyaiza.org
SUMMARY:Basilica de Letrán
DESCRIPTION:
URL:https://parroquialosremediosyaiza.org/evento/basilica-de-letran/
CATEGORIES:Santoral
END:VEVENT
BEGIN:VEVENT
DTSTART;VALUE=DATE:20201108
DTEND;VALUE=DATE:20201109
DTSTAMP:20260426T045103
CREATED:20200616T084325Z
LAST-MODIFIED:20201029T112032Z
UID:3600-1604793600-1604879999@parroquialosremediosyaiza.org
SUMMARY:XXXII TIEMPO ORDINARIO\, San Adeodato
DESCRIPTION:Comuniones \nMISAS: 10 h.  y 19:30 h. Playa Blanca -12 h. Yaiza- 18 h. Femés
URL:https://parroquialosremediosyaiza.org/evento/xxxii-tiempo-ordinario-san-adeodato/
CATEGORIES:Santoral
END:VEVENT
BEGIN:VEVENT
DTSTART;VALUE=DATE:20201107
DTEND;VALUE=DATE:20201108
DTSTAMP:20260426T045103
CREATED:20200616T084228Z
LAST-MODIFIED:20201029T112004Z
UID:3594-1604707200-1604793599@parroquialosremediosyaiza.org
SUMMARY:Bto. Francisco Palau
DESCRIPTION:
URL:https://parroquialosremediosyaiza.org/evento/bto-francisco-palau/
CATEGORIES:Santoral
END:VEVENT
BEGIN:VEVENT
DTSTART;VALUE=DATE:20201106
DTEND;VALUE=DATE:20201107
DTSTAMP:20260426T045103
CREATED:20200616T084015Z
LAST-MODIFIED:20201029T111947Z
UID:3588-1604620800-1604707199@parroquialosremediosyaiza.org
SUMMARY:San Pedro Poveda
DESCRIPTION:
URL:https://parroquialosremediosyaiza.org/evento/san-pedro-poveda/
CATEGORIES:Santoral
END:VEVENT
BEGIN:VEVENT
DTSTART;VALUE=DATE:20201105
DTEND;VALUE=DATE:20201106
DTSTAMP:20260426T045103
CREATED:20200616T083909Z
LAST-MODIFIED:20201029T111923Z
UID:3580-1604534400-1604620799@parroquialosremediosyaiza.org
SUMMARY:Santa Ángela de la Cruz
DESCRIPTION:Despacho 17:30 MISA  19  h. Yaiza
URL:https://parroquialosremediosyaiza.org/evento/santa-angela-de-la-cruz/
CATEGORIES:Santoral
END:VEVENT
BEGIN:VEVENT
DTSTART;VALUE=DATE:20201104
DTEND;VALUE=DATE:20201105
DTSTAMP:20260426T045103
CREATED:20200616T083707Z
LAST-MODIFIED:20200616T083707Z
UID:3577-1604448000-1604534399@parroquialosremediosyaiza.org
SUMMARY:San Carlos Borromeo
DESCRIPTION:
URL:https://parroquialosremediosyaiza.org/evento/san-carlos-borromeo/
CATEGORIES:Santoral
END:VEVENT
BEGIN:VEVENT
DTSTART;VALUE=DATE:20201103
DTEND;VALUE=DATE:20201104
DTSTAMP:20260426T045103
CREATED:20200616T083615Z
LAST-MODIFIED:20201029T111845Z
UID:3571-1604361600-1604447999@parroquialosremediosyaiza.org
SUMMARY:San Martín
DESCRIPTION:MISA 19:30h. Playa Blanca
URL:https://parroquialosremediosyaiza.org/evento/san-martin/
CATEGORIES:Santoral
END:VEVENT
BEGIN:VEVENT
DTSTART;VALUE=DATE:20201102
DTEND;VALUE=DATE:20201103
DTSTAMP:20260426T045103
CREATED:20200616T083206Z
LAST-MODIFIED:20201029T111818Z
UID:3558-1604275200-1604361599@parroquialosremediosyaiza.org
SUMMARY:FIELES DIFUNTOS
DESCRIPTION:MISA  18  h. Yaiza  y  19:30 h. Playa Blanca
URL:https://parroquialosremediosyaiza.org/evento/fieles-difuntos/
CATEGORIES:Santoral
END:VEVENT
BEGIN:VEVENT
DTSTART;VALUE=DATE:20201101
DTEND;VALUE=DATE:20201102
DTSTAMP:20260426T045103
CREATED:20200616T082802Z
LAST-MODIFIED:20201029T111745Z
UID:3549-1604188800-1604275199@parroquialosremediosyaiza.org
SUMMARY:TODOS LOS SANTOS
DESCRIPTION:Cementerios: No habrá Celebraciones \nMISAS 10 y 19:30 h. Playa Blanca – 12 h. Yaiza – 18 h. Femés
URL:https://parroquialosremediosyaiza.org/evento/todos-los-santos/
CATEGORIES:Santoral
END:VEVENT
BEGIN:VEVENT
DTSTART;VALUE=DATE:20201031
DTEND;VALUE=DATE:20201101
DTSTAMP:20260426T045103
CREATED:20200616T085308Z
LAST-MODIFIED:20200928T092508Z
UID:3632-1604102400-1604188799@parroquialosremediosyaiza.org
SUMMARY:San Quintín
DESCRIPTION:
URL:https://parroquialosremediosyaiza.org/evento/san-quintin/
CATEGORIES:Santoral
END:VEVENT
BEGIN:VEVENT
DTSTART;VALUE=DATE:20201030
DTEND;VALUE=DATE:20201031
DTSTAMP:20260426T045103
CREATED:20200616T085234Z
LAST-MODIFIED:20200928T092455Z
UID:3629-1604016000-1604102399@parroquialosremediosyaiza.org
SUMMARY:Santos Marcelo e Hipólito
DESCRIPTION:
URL:https://parroquialosremediosyaiza.org/evento/santos-marcelo-e-hipolito/
CATEGORIES:Santoral
END:VEVENT
BEGIN:VEVENT
DTSTART;VALUE=DATE:20201029
DTEND;VALUE=DATE:20201030
DTSTAMP:20260426T045103
CREATED:20200616T084949Z
LAST-MODIFIED:20200928T092406Z
UID:3625-1603929600-1604015999@parroquialosremediosyaiza.org
SUMMARY:San Narciso
DESCRIPTION:Padres 1ºP. Fe 16:30 -Despacho17:30h.-  MISA  19h. Yaiza
URL:https://parroquialosremediosyaiza.org/evento/san-narciso/
CATEGORIES:Santoral
END:VEVENT
BEGIN:VEVENT
DTSTART;VALUE=DATE:20201028
DTEND;VALUE=DATE:20201029
DTSTAMP:20260426T045103
CREATED:20200616T084920Z
LAST-MODIFIED:20200616T084920Z
UID:3623-1603843200-1603929599@parroquialosremediosyaiza.org
SUMMARY:Santos Sión y Judas Tadeo\, Apóstoles
DESCRIPTION:
URL:https://parroquialosremediosyaiza.org/evento/santos-sion-y-judas-tadeo-apostoles/
CATEGORIES:Santoral
END:VEVENT
BEGIN:VEVENT
DTSTART;VALUE=DATE:20201027
DTEND;VALUE=DATE:20201028
DTSTAMP:20260426T045103
CREATED:20200616T084850Z
LAST-MODIFIED:20200928T092310Z
UID:3621-1603756800-1603843199@parroquialosremediosyaiza.org
SUMMARY:Santos Evaristo\, Vicente y Sabina
DESCRIPTION:MISA 19:30h. Playa Blanca
URL:https://parroquialosremediosyaiza.org/evento/santos-evaristo-vicente-y-sabina/
CATEGORIES:Santoral
END:VEVENT
BEGIN:VEVENT
DTSTART;VALUE=DATE:20201026
DTEND;VALUE=DATE:20201027
DTSTAMP:20260426T045103
CREATED:20200616T084702Z
LAST-MODIFIED:20200616T084702Z
UID:3615-1603670400-1603756799@parroquialosremediosyaiza.org
SUMMARY:Santos Albino\, Luciano y Marciano
DESCRIPTION:
URL:https://parroquialosremediosyaiza.org/evento/santos-albino-luciano-y-marciano/
CATEGORIES:Santoral
END:VEVENT
BEGIN:VEVENT
DTSTART;VALUE=DATE:20201025
DTEND;VALUE=DATE:20201026
DTSTAMP:20260426T045103
CREATED:20200616T084617Z
LAST-MODIFIED:20200616T084617Z
UID:3613-1603584000-1603670399@parroquialosremediosyaiza.org
SUMMARY:XXX TIEMPO ORDINARIO  Santos Crisanto\, Daría y Valentín
DESCRIPTION:MISAS 10 y 19:30 h. Playa Blanca – R. Catequistas 12 h. Yaiza – 18 h. Femés
URL:https://parroquialosremediosyaiza.org/evento/xxx-tiempo-ordinario-santos-crisanto-daria-y-valentin/
CATEGORIES:Santoral
END:VEVENT
BEGIN:VEVENT
DTSTART;VALUE=DATE:20201024
DTEND;VALUE=DATE:20201025
DTSTAMP:20260426T045103
CREATED:20200616T084535Z
LAST-MODIFIED:20200928T092115Z
UID:3611-1603497600-1603583999@parroquialosremediosyaiza.org
SUMMARY:San Antonio Mª Claret
DESCRIPTION:
URL:https://parroquialosremediosyaiza.org/evento/san-antonio-ma-claret/
CATEGORIES:Santoral
END:VEVENT
END:VCALENDAR