BEGIN:VCALENDAR
VERSION:2.0
PRODID:-//Parroquia Los Remedios - ECPv6.15.17//NONSGML v1.0//EN
CALSCALE:GREGORIAN
METHOD:PUBLISH
X-ORIGINAL-URL:https://parroquialosremediosyaiza.org
X-WR-CALDESC:Eventos para Parroquia Los Remedios
REFRESH-INTERVAL;VALUE=DURATION:PT1H
X-Robots-Tag:noindex
X-PUBLISHED-TTL:PT1H
BEGIN:VTIMEZONE
TZID:Europe/London
BEGIN:DAYLIGHT
TZOFFSETFROM:+0000
TZOFFSETTO:+0100
TZNAME:BST
DTSTART:20200329T010000
END:DAYLIGHT
BEGIN:STANDARD
TZOFFSETFROM:+0100
TZOFFSETTO:+0000
TZNAME:GMT
DTSTART:20201025T010000
END:STANDARD
BEGIN:DAYLIGHT
TZOFFSETFROM:+0000
TZOFFSETTO:+0100
TZNAME:BST
DTSTART:20210328T010000
END:DAYLIGHT
BEGIN:STANDARD
TZOFFSETFROM:+0100
TZOFFSETTO:+0000
TZNAME:GMT
DTSTART:20211031T010000
END:STANDARD
BEGIN:DAYLIGHT
TZOFFSETFROM:+0000
TZOFFSETTO:+0100
TZNAME:BST
DTSTART:20220327T010000
END:DAYLIGHT
BEGIN:STANDARD
TZOFFSETFROM:+0100
TZOFFSETTO:+0000
TZNAME:GMT
DTSTART:20221030T010000
END:STANDARD
END:VTIMEZONE
BEGIN:VEVENT
DTSTART;VALUE=DATE:20210814
DTEND;VALUE=DATE:20210815
DTSTAMP:20260422T200105
CREATED:20210729T124519Z
LAST-MODIFIED:20210729T124519Z
UID:4447-1628899200-1628985599@parroquialosremediosyaiza.org
SUMMARY:San Maximiliano Kolbe
DESCRIPTION:MISA 18 h. Uga y 19:30 h. Las Breñas
URL:https://parroquialosremediosyaiza.org/evento/san-maximiliano-kolbe-2/
CATEGORIES:Santoral
END:VEVENT
BEGIN:VEVENT
DTSTART;VALUE=DATE:20210813
DTEND;VALUE=DATE:20210814
DTSTAMP:20260422T200105
CREATED:20210729T124422Z
LAST-MODIFIED:20210729T124439Z
UID:4444-1628812800-1628899199@parroquialosremediosyaiza.org
SUMMARY:San Hipólito y San Ponciano
DESCRIPTION:
URL:https://parroquialosremediosyaiza.org/evento/sanhipolito-y-san-ponciano/
CATEGORIES:Santoral
END:VEVENT
BEGIN:VEVENT
DTSTART;VALUE=DATE:20210812
DTEND;VALUE=DATE:20210813
DTSTAMP:20260422T200105
CREATED:20210729T124342Z
LAST-MODIFIED:20210729T124342Z
UID:4442-1628726400-1628812799@parroquialosremediosyaiza.org
SUMMARY:Santa Juana Francisca de Chantal
DESCRIPTION:Despacho 17:30 h. MISA 19 h. Yaiza
URL:https://parroquialosremediosyaiza.org/evento/santa-juana-francisca-de-chantal-2/
CATEGORIES:Santoral
END:VEVENT
BEGIN:VEVENT
DTSTART;VALUE=DATE:20210811
DTEND;VALUE=DATE:20210812
DTSTAMP:20260422T200105
CREATED:20210729T120433Z
LAST-MODIFIED:20210729T120433Z
UID:4439-1628640000-1628726399@parroquialosremediosyaiza.org
SUMMARY:Santa Clara
DESCRIPTION:
URL:https://parroquialosremediosyaiza.org/evento/santa-clara-2/
CATEGORIES:Santoral
END:VEVENT
BEGIN:VEVENT
DTSTART;VALUE=DATE:20210810
DTEND;VALUE=DATE:20210811
DTSTAMP:20260422T200105
CREATED:20210729T120229Z
LAST-MODIFIED:20210729T120455Z
UID:4437-1628553600-1628639999@parroquialosremediosyaiza.org
SUMMARY:San Lorenzo
DESCRIPTION:MISA  19:30 h. Playa Blanca
URL:https://parroquialosremediosyaiza.org/evento/san-lorenzo-y-santa-clara/
CATEGORIES:Santoral
END:VEVENT
BEGIN:VEVENT
DTSTART;VALUE=DATE:20210809
DTEND;VALUE=DATE:20210810
DTSTAMP:20260422T200105
CREATED:20210729T115922Z
LAST-MODIFIED:20210729T115947Z
UID:4434-1628467200-1628553599@parroquialosremediosyaiza.org
SUMMARY:Santa Teresa Benedicta de la Cruz
DESCRIPTION:
URL:https://parroquialosremediosyaiza.org/evento/santateresa-benedicta-de-la-cruz/
CATEGORIES:Santoral
END:VEVENT
BEGIN:VEVENT
DTSTART;VALUE=DATE:20210808
DTEND;VALUE=DATE:20210809
DTSTAMP:20260422T200105
CREATED:20210729T115809Z
LAST-MODIFIED:20210729T115830Z
UID:4432-1628380800-1628467199@parroquialosremediosyaiza.org
SUMMARY:XIX Tiempo Ordinario y San Domingo de Guzmán
DESCRIPTION:MISAS 10 y 19:30 h. Playa Blanca – 12 h. Yaiza – 18 h. Femés
URL:https://parroquialosremediosyaiza.org/evento/xix-tiempo-ordinario-y-san-domingo-de-guzman/
CATEGORIES:Santoral
END:VEVENT
BEGIN:VEVENT
DTSTART;VALUE=DATE:20210807
DTEND;VALUE=DATE:20210808
DTSTAMP:20260422T200105
CREATED:20210729T115636Z
LAST-MODIFIED:20210729T115636Z
UID:4430-1628294400-1628380799@parroquialosremediosyaiza.org
SUMMARY:San Sixto y San Cayetano
DESCRIPTION:MISA 18 h. Uga y 19:30 h. Las Breñas
URL:https://parroquialosremediosyaiza.org/evento/san-sixto-y-san-cayetano/
CATEGORIES:Santoral
END:VEVENT
BEGIN:VEVENT
DTSTART;VALUE=DATE:20210806
DTEND;VALUE=DATE:20210807
DTSTAMP:20260422T200105
CREATED:20210729T115249Z
LAST-MODIFIED:20210729T115249Z
UID:4428-1628208000-1628294399@parroquialosremediosyaiza.org
SUMMARY:TRANSFIGURACIÓN DEL SEÑOR
DESCRIPTION:
URL:https://parroquialosremediosyaiza.org/evento/transfiguracion-del-senor/
CATEGORIES:Santoral
END:VEVENT
BEGIN:VEVENT
DTSTART;VALUE=DATE:20210805
DTEND;VALUE=DATE:20210806
DTSTAMP:20260422T200105
CREATED:20210729T114958Z
LAST-MODIFIED:20210729T115132Z
UID:4426-1628121600-1628207999@parroquialosremediosyaiza.org
SUMMARY:Santa María de las Nieves
DESCRIPTION:Despacho 17:30 h – MISA 19  h.  Yaiza
URL:https://parroquialosremediosyaiza.org/evento/santa-maria-de-las-nieves/
CATEGORIES:Santoral
END:VEVENT
BEGIN:VEVENT
DTSTART;VALUE=DATE:20210804
DTEND;VALUE=DATE:20210805
DTSTAMP:20260422T200105
CREATED:20210729T114721Z
LAST-MODIFIED:20210729T114721Z
UID:4424-1628035200-1628121599@parroquialosremediosyaiza.org
SUMMARY:San Juan Mª Vianney
DESCRIPTION:
URL:https://parroquialosremediosyaiza.org/evento/san-juan-ma-vianney/
CATEGORIES:Santoral
END:VEVENT
BEGIN:VEVENT
DTSTART;VALUE=DATE:20210803
DTEND;VALUE=DATE:20210804
DTSTAMP:20260422T200105
CREATED:20210729T114439Z
LAST-MODIFIED:20210729T114439Z
UID:4422-1627948800-1628035199@parroquialosremediosyaiza.org
SUMMARY:Santa Lidia
DESCRIPTION:MISA 19:30 h. Playa Blanca
URL:https://parroquialosremediosyaiza.org/evento/santa-lidia-3/
CATEGORIES:Santoral
END:VEVENT
BEGIN:VEVENT
DTSTART;VALUE=DATE:20210802
DTEND;VALUE=DATE:20210803
DTSTAMP:20260422T200105
CREATED:20210729T113935Z
LAST-MODIFIED:20210729T114010Z
UID:4420-1627862400-1627948799@parroquialosremediosyaiza.org
SUMMARY:Nuestra Señora de los Ángeles
DESCRIPTION:
URL:https://parroquialosremediosyaiza.org/evento/nuestra-senora-de-los-angeles/
CATEGORIES:Santoral
END:VEVENT
BEGIN:VEVENT
DTSTART;VALUE=DATE:20210801
DTEND;VALUE=DATE:20210802
DTSTAMP:20260422T200105
CREATED:20210729T113544Z
LAST-MODIFIED:20210729T113544Z
UID:4418-1627776000-1627862399@parroquialosremediosyaiza.org
SUMMARY:XVIII Tiempo Ordinario y San Alfonso Mª de Ligorio
DESCRIPTION:MISAS 10 y 19:30 h. Playa Blanca – 12 h. Yaiza – 18 h. Femés
URL:https://parroquialosremediosyaiza.org/evento/xviii-tiempo-ordinario-y-san-alfonso-ma-de-ligorio/
CATEGORIES:Santoral
END:VEVENT
BEGIN:VEVENT
DTSTART;VALUE=DATE:20210731
DTEND;VALUE=DATE:20210801
DTSTAMP:20260422T200105
CREATED:20210630T084937Z
LAST-MODIFIED:20210630T085040Z
UID:4400-1627689600-1627775999@parroquialosremediosyaiza.org
SUMMARY:San Ignacio de Loyola
DESCRIPTION:MISAS: 18 h. Uga-    19:30 h. Las Breñas      Limpieza Templo Playa Blanca 10 h.
URL:https://parroquialosremediosyaiza.org/evento/san-pedro-crisologo/
CATEGORIES:Santoral
END:VEVENT
BEGIN:VEVENT
DTSTART;VALUE=DATE:20210730
DTEND;VALUE=DATE:20210731
DTSTAMP:20260422T200105
CREATED:20210630T085130Z
LAST-MODIFIED:20210630T085130Z
UID:4402-1627603200-1627689599@parroquialosremediosyaiza.org
SUMMARY:San Pedro Crisólogo
DESCRIPTION:Limpieza Templo Yaiza 17:30 h.
URL:https://parroquialosremediosyaiza.org/evento/san-pedro-crisologo-2/
CATEGORIES:Santoral
END:VEVENT
BEGIN:VEVENT
DTSTART;VALUE=DATE:20210729
DTEND;VALUE=DATE:20210730
DTSTAMP:20260422T200105
CREATED:20210630T084835Z
LAST-MODIFIED:20210630T084835Z
UID:4398-1627516800-1627603199@parroquialosremediosyaiza.org
SUMMARY:Santa Marta
DESCRIPTION:Despacho 17:30 h. MISA 19 h.
URL:https://parroquialosremediosyaiza.org/evento/santa-marta-2/
CATEGORIES:Santoral
END:VEVENT
BEGIN:VEVENT
DTSTART;VALUE=DATE:20210728
DTEND;VALUE=DATE:20210729
DTSTAMP:20260422T200105
CREATED:20210630T084803Z
LAST-MODIFIED:20210630T084803Z
UID:4396-1627430400-1627516799@parroquialosremediosyaiza.org
SUMMARY:Anta Catalina Tomás y San Melchor de Quirós
DESCRIPTION:
URL:https://parroquialosremediosyaiza.org/evento/anta-catalina-tomas-y-san-melchor-de-quiros/
CATEGORIES:Santoral
END:VEVENT
BEGIN:VEVENT
DTSTART;VALUE=DATE:20210727
DTEND;VALUE=DATE:20210728
DTSTAMP:20260422T200105
CREATED:20210630T084618Z
LAST-MODIFIED:20210630T084618Z
UID:4394-1627344000-1627430399@parroquialosremediosyaiza.org
SUMMARY:San Pantaleón y San Celestino
DESCRIPTION:MISA 19:30 h.  Playa Blanca
URL:https://parroquialosremediosyaiza.org/evento/san-pantaleon-y-san-celestino/
CATEGORIES:Santoral
END:VEVENT
BEGIN:VEVENT
DTSTART;VALUE=DATE:20210726
DTEND;VALUE=DATE:20210727
DTSTAMP:20260422T200105
CREATED:20210630T084448Z
LAST-MODIFIED:20210630T084448Z
UID:4392-1627257600-1627343999@parroquialosremediosyaiza.org
SUMMARY:San Joaquín y Santa Ana
DESCRIPTION:Día de LOS ABUELOS
URL:https://parroquialosremediosyaiza.org/evento/san-joaquin-y-santa-ana/
CATEGORIES:Santoral
END:VEVENT
BEGIN:VEVENT
DTSTART;VALUE=DATE:20210725
DTEND;VALUE=DATE:20210726
DTSTAMP:20260422T200105
CREATED:20210630T084336Z
LAST-MODIFIED:20210630T084336Z
UID:4390-1627171200-1627257599@parroquialosremediosyaiza.org
SUMMARY:Santiago
DESCRIPTION:MISAS: 10 y 19:30 h. Playa Blanca- 12 h. Yaiza -18h. Femés
URL:https://parroquialosremediosyaiza.org/evento/santiago/
CATEGORIES:Santoral
END:VEVENT
BEGIN:VEVENT
DTSTART;VALUE=DATE:20210724
DTEND;VALUE=DATE:20210725
DTSTAMP:20260422T200105
CREATED:20210630T084305Z
LAST-MODIFIED:20210630T084305Z
UID:4388-1627084800-1627171199@parroquialosremediosyaiza.org
SUMMARY:Santa Cristina
DESCRIPTION:MISAS: 18 h. Uga-    19:30 h. Las Breñas Limpieza Templo Playa Blanca 10 h.
URL:https://parroquialosremediosyaiza.org/evento/santa-cristina/
CATEGORIES:Santoral
END:VEVENT
BEGIN:VEVENT
DTSTART;VALUE=DATE:20210723
DTEND;VALUE=DATE:20210724
DTSTAMP:20260422T200105
CREATED:20210630T084218Z
LAST-MODIFIED:20210630T084218Z
UID:4386-1626998400-1627084799@parroquialosremediosyaiza.org
SUMMARY:Santa Brigida
DESCRIPTION:Limpieza Templo Yaiza 19:30 h.
URL:https://parroquialosremediosyaiza.org/evento/santa-brigida/
CATEGORIES:Santoral
END:VEVENT
BEGIN:VEVENT
DTSTART;VALUE=DATE:20210722
DTEND;VALUE=DATE:20210723
DTSTAMP:20260422T200105
CREATED:20210630T084137Z
LAST-MODIFIED:20210630T084137Z
UID:4384-1626912000-1626998399@parroquialosremediosyaiza.org
SUMMARY:Santa María Magdalena
DESCRIPTION:Despacho 17:30 h. MISA 19 h. Yaiza
URL:https://parroquialosremediosyaiza.org/evento/santa-maria-magdalena/
CATEGORIES:Santoral
END:VEVENT
BEGIN:VEVENT
DTSTART;VALUE=DATE:20210721
DTEND;VALUE=DATE:20210722
DTSTAMP:20260422T200105
CREATED:20210630T084056Z
LAST-MODIFIED:20210630T084056Z
UID:4382-1626825600-1626911999@parroquialosremediosyaiza.org
SUMMARY:San Lorenzo de Brindis
DESCRIPTION:
URL:https://parroquialosremediosyaiza.org/evento/san-lorenzo-de-brindis/
CATEGORIES:Santoral
END:VEVENT
BEGIN:VEVENT
DTSTART;VALUE=DATE:20210720
DTEND;VALUE=DATE:20210721
DTSTAMP:20260422T200105
CREATED:20210630T084014Z
LAST-MODIFIED:20210630T084014Z
UID:4380-1626739200-1626825599@parroquialosremediosyaiza.org
SUMMARY:San Elias\, profeta
DESCRIPTION: MISA 19:30 h.  Playa Blanca
URL:https://parroquialosremediosyaiza.org/evento/san-elias-profeta/
CATEGORIES:Santoral
END:VEVENT
BEGIN:VEVENT
DTSTART;VALUE=DATE:20210719
DTEND;VALUE=DATE:20210720
DTSTAMP:20260422T200105
CREATED:20210630T083940Z
LAST-MODIFIED:20210630T083940Z
UID:4378-1626652800-1626739199@parroquialosremediosyaiza.org
SUMMARY:Santa Aurea
DESCRIPTION:
URL:https://parroquialosremediosyaiza.org/evento/santa-aurea/
CATEGORIES:Santoral
END:VEVENT
BEGIN:VEVENT
DTSTART;VALUE=DATE:20210718
DTEND;VALUE=DATE:20210719
DTSTAMP:20260422T200105
CREATED:20210630T083906Z
LAST-MODIFIED:20210630T083906Z
UID:4376-1626566400-1626652799@parroquialosremediosyaiza.org
SUMMARY:XVI TIEMPO ORDINARIO
DESCRIPTION:MISAS: LA VIRGEN MARINERA\n12 h. Playa Blanca- 18 h. Femés- 19:30 h. Yaiza
URL:https://parroquialosremediosyaiza.org/evento/xvi-tiempo-ordinario/
CATEGORIES:Santoral
END:VEVENT
BEGIN:VEVENT
DTSTART;VALUE=DATE:20210717
DTEND;VALUE=DATE:20210718
DTSTAMP:20260422T200105
CREATED:20210630T083812Z
LAST-MODIFIED:20210630T083812Z
UID:4374-1626480000-1626566399@parroquialosremediosyaiza.org
SUMMARY:Santa Justa y Santa Rufina
DESCRIPTION:Limpieza Templo Playa Blanca 10 h. \nMISAS: 18 h. Uga-    19:30 h. Las Breñas
URL:https://parroquialosremediosyaiza.org/evento/santa-justa-y-santa-rufina/
CATEGORIES:Santoral
END:VEVENT
BEGIN:VEVENT
DTSTART;VALUE=DATE:20210716
DTEND;VALUE=DATE:20210717
DTSTAMP:20260422T200105
CREATED:20210630T083704Z
LAST-MODIFIED:20210630T083704Z
UID:4372-1626393600-1626479999@parroquialosremediosyaiza.org
SUMMARY:Nuestra Señora del Carmen
DESCRIPTION:MISA 19 h. PLAYA BLANCA Limpieza Templo Yaiza 17:30 h.
URL:https://parroquialosremediosyaiza.org/evento/nuestra-senora-del-carmen/
CATEGORIES:Santoral
END:VEVENT
END:VCALENDAR