BEGIN:VCALENDAR
VERSION:2.0
PRODID:-//Parroquia Los Remedios - ECPv6.15.17//NONSGML v1.0//EN
CALSCALE:GREGORIAN
METHOD:PUBLISH
X-WR-CALNAME:Parroquia Los Remedios
X-ORIGINAL-URL:https://parroquialosremediosyaiza.org
X-WR-CALDESC:Eventos para Parroquia Los Remedios
REFRESH-INTERVAL;VALUE=DURATION:PT1H
X-Robots-Tag:noindex
X-PUBLISHED-TTL:PT1H
BEGIN:VTIMEZONE
TZID:Europe/London
BEGIN:DAYLIGHT
TZOFFSETFROM:+0000
TZOFFSETTO:+0100
TZNAME:BST
DTSTART:20200329T010000
END:DAYLIGHT
BEGIN:STANDARD
TZOFFSETFROM:+0100
TZOFFSETTO:+0000
TZNAME:GMT
DTSTART:20201025T010000
END:STANDARD
BEGIN:DAYLIGHT
TZOFFSETFROM:+0000
TZOFFSETTO:+0100
TZNAME:BST
DTSTART:20210328T010000
END:DAYLIGHT
BEGIN:STANDARD
TZOFFSETFROM:+0100
TZOFFSETTO:+0000
TZNAME:GMT
DTSTART:20211031T010000
END:STANDARD
BEGIN:DAYLIGHT
TZOFFSETFROM:+0000
TZOFFSETTO:+0100
TZNAME:BST
DTSTART:20220327T010000
END:DAYLIGHT
BEGIN:STANDARD
TZOFFSETFROM:+0100
TZOFFSETTO:+0000
TZNAME:GMT
DTSTART:20221030T010000
END:STANDARD
END:VTIMEZONE
BEGIN:VEVENT
DTSTART;VALUE=DATE:20210709
DTEND;VALUE=DATE:20210710
DTSTAMP:20260423T005331
CREATED:20210630T082906Z
LAST-MODIFIED:20210630T082906Z
UID:4358-1625788800-1625875199@parroquialosremediosyaiza.org
SUMMARY:San Agustín Zhao Rong
DESCRIPTION:Limpieza Templo Yaiza 17:30 h.
URL:https://parroquialosremediosyaiza.org/evento/san-agustin-zhao-rong/
CATEGORIES:Santoral
END:VEVENT
BEGIN:VEVENT
DTSTART;VALUE=DATE:20210708
DTEND;VALUE=DATE:20210709
DTSTAMP:20260423T005331
CREATED:20210630T082745Z
LAST-MODIFIED:20210630T082745Z
UID:4356-1625702400-1625788799@parroquialosremediosyaiza.org
SUMMARY:San Aquila y Santa Priscila
DESCRIPTION:Despacho 17:30 h. MISA 19 h. Yaiza
URL:https://parroquialosremediosyaiza.org/evento/san-aquila-y-santa-priscila/
CATEGORIES:Santoral
END:VEVENT
BEGIN:VEVENT
DTSTART;VALUE=DATE:20210707
DTEND;VALUE=DATE:20210708
DTSTAMP:20260423T005331
CREATED:20210630T082450Z
LAST-MODIFIED:20210630T082617Z
UID:4354-1625616000-1625702399@parroquialosremediosyaiza.org
SUMMARY:San Marcial del Rubicón
DESCRIPTION:MISAS EN FEMÉS: 9:30 h.-12.30 h.-19.30 h.
URL:https://parroquialosremediosyaiza.org/evento/san-marcial-del-rubicon/
CATEGORIES:Santoral
END:VEVENT
BEGIN:VEVENT
DTSTART;VALUE=DATE:20210706
DTEND;VALUE=DATE:20210707
DTSTAMP:20260423T005331
CREATED:20210630T082357Z
LAST-MODIFIED:20210630T082357Z
UID:4352-1625529600-1625615999@parroquialosremediosyaiza.org
SUMMARY:Santa María Goretti
DESCRIPTION:MISA 19:30 h.  Playa Blanca
URL:https://parroquialosremediosyaiza.org/evento/santa-maria-goretti/
CATEGORIES:Santoral
END:VEVENT
BEGIN:VEVENT
DTSTART;VALUE=DATE:20210705
DTEND;VALUE=DATE:20210706
DTSTAMP:20260423T005331
CREATED:20210630T082317Z
LAST-MODIFIED:20210630T082317Z
UID:4350-1625443200-1625529599@parroquialosremediosyaiza.org
SUMMARY:San Antonio María Zaccaría
DESCRIPTION:
URL:https://parroquialosremediosyaiza.org/evento/san-antonio-maria-zaccaria/
CATEGORIES:Santoral
END:VEVENT
BEGIN:VEVENT
DTSTART;VALUE=DATE:20210704
DTEND;VALUE=DATE:20210705
DTSTAMP:20260423T005331
CREATED:20210630T082200Z
LAST-MODIFIED:20210630T082200Z
UID:4348-1625356800-1625443199@parroquialosremediosyaiza.org
SUMMARY:XIV TIEMPO ORDINARIO
DESCRIPTION:MISAS: 10 y 19:30 h. Playa Blanca- 12 h. Yaiza -18h. Femés
URL:https://parroquialosremediosyaiza.org/evento/xiv-tiempo-ordinario/
CATEGORIES:Santoral
END:VEVENT
BEGIN:VEVENT
DTSTART;VALUE=DATE:20210703
DTEND;VALUE=DATE:20210704
DTSTAMP:20260423T005331
CREATED:20210630T082112Z
LAST-MODIFIED:20210630T082112Z
UID:4346-1625270400-1625356799@parroquialosremediosyaiza.org
SUMMARY:San Tomás Apostol
DESCRIPTION:MISAS: 18 h. Uga-19:30 h. Las Breñas  Limpieza Templo Playa Blanca 10 h.
URL:https://parroquialosremediosyaiza.org/evento/san-tomas-apostol/
CATEGORIES:Santoral
END:VEVENT
BEGIN:VEVENT
DTSTART;VALUE=DATE:20210702
DTEND;VALUE=DATE:20210703
DTSTAMP:20260423T005331
CREATED:20210630T082016Z
LAST-MODIFIED:20210630T082016Z
UID:4344-1625184000-1625270399@parroquialosremediosyaiza.org
SUMMARY:San Justo
DESCRIPTION:Limpieza Templo Yaiza 17:30 h
URL:https://parroquialosremediosyaiza.org/evento/san-justo/
CATEGORIES:Santoral
END:VEVENT
BEGIN:VEVENT
DTSTART;VALUE=DATE:20210701
DTEND;VALUE=DATE:20210702
DTSTAMP:20260423T005331
CREATED:20210630T081832Z
LAST-MODIFIED:20210630T081832Z
UID:4342-1625097600-1625183999@parroquialosremediosyaiza.org
SUMMARY:San Atilano
DESCRIPTION:Despacho 17:30 h. MISA 19 h. Yaiza
URL:https://parroquialosremediosyaiza.org/evento/san-atilano/
CATEGORIES:Santoral
END:VEVENT
BEGIN:VEVENT
DTSTART;VALUE=DATE:20210630
DTEND;VALUE=DATE:20210701
DTSTAMP:20260423T005331
CREATED:20210526T093054Z
LAST-MODIFIED:20210526T093054Z
UID:4338-1625011200-1625097599@parroquialosremediosyaiza.org
SUMMARY:Mártires Romanos
DESCRIPTION:
URL:https://parroquialosremediosyaiza.org/evento/martires-romanos-2/
CATEGORIES:Santoral
END:VEVENT
BEGIN:VEVENT
DTSTART;VALUE=DATE:20210629
DTEND;VALUE=DATE:20210630
DTSTAMP:20260423T005331
CREATED:20210526T092921Z
LAST-MODIFIED:20210526T092921Z
UID:4336-1624924800-1625011199@parroquialosremediosyaiza.org
SUMMARY:San Pedro y San Pablo
DESCRIPTION:19:30 h. Playa Blanca              
URL:https://parroquialosremediosyaiza.org/evento/san-pedro-y-san-pablo/
CATEGORIES:Santoral
END:VEVENT
BEGIN:VEVENT
DTSTART;VALUE=DATE:20210628
DTEND;VALUE=DATE:20210629
DTSTAMP:20260423T005331
CREATED:20210526T092836Z
LAST-MODIFIED:20210526T092836Z
UID:4334-1624838400-1624924799@parroquialosremediosyaiza.org
SUMMARY:San Ireneo de Lyon
DESCRIPTION:
URL:https://parroquialosremediosyaiza.org/evento/san-ireneo-de-lyon/
CATEGORIES:Santoral
END:VEVENT
BEGIN:VEVENT
DTSTART;VALUE=DATE:20210627
DTEND;VALUE=DATE:20210628
DTSTAMP:20260423T005331
CREATED:20210526T092759Z
LAST-MODIFIED:20210526T092759Z
UID:4332-1624752000-1624838399@parroquialosremediosyaiza.org
SUMMARY:XIII TIEMPO ORDINARIO
DESCRIPTION:MISAS: 10 h.  y  19:30 h. Playa Blanca –  12 h. Yaiza  – 18 h. Femés                                              
URL:https://parroquialosremediosyaiza.org/evento/xiii-tiempo-ordinario/
CATEGORIES:Santoral
END:VEVENT
BEGIN:VEVENT
DTSTART;VALUE=DATE:20210626
DTEND;VALUE=DATE:20210627
DTSTAMP:20260423T005331
CREATED:20210526T092709Z
LAST-MODIFIED:20210526T092709Z
UID:4330-1624665600-1624751999@parroquialosremediosyaiza.org
SUMMARY:San Pelayo Sahagún
DESCRIPTION:MISA. 18 h.  UGA  y  19:30 h. LAS BREÑAS
URL:https://parroquialosremediosyaiza.org/evento/san-pelayo-sahagun/
CATEGORIES:Santoral
END:VEVENT
BEGIN:VEVENT
DTSTART;VALUE=DATE:20210625
DTEND;VALUE=DATE:20210626
DTSTAMP:20260423T005331
CREATED:20210526T092620Z
LAST-MODIFIED:20210526T092620Z
UID:4328-1624579200-1624665599@parroquialosremediosyaiza.org
SUMMARY:San Próspero
DESCRIPTION:
URL:https://parroquialosremediosyaiza.org/evento/san-prospero-2/
CATEGORIES:Santoral
END:VEVENT
BEGIN:VEVENT
DTSTART;VALUE=DATE:20210624
DTEND;VALUE=DATE:20210625
DTSTAMP:20260423T005331
CREATED:20210526T092506Z
LAST-MODIFIED:20210526T092506Z
UID:4326-1624492800-1624579199@parroquialosremediosyaiza.org
SUMMARY:Natividad de San Juan Bautista
DESCRIPTION:Despacho: 17:30 h.-MISA 19h.  Yaiza
URL:https://parroquialosremediosyaiza.org/evento/natividad-de-san-juan-bautista-2/
CATEGORIES:Santoral
END:VEVENT
BEGIN:VEVENT
DTSTART;VALUE=DATE:20210623
DTEND;VALUE=DATE:20210624
DTSTAMP:20260423T005331
CREATED:20210526T092402Z
LAST-MODIFIED:20210526T092402Z
UID:4324-1624406400-1624492799@parroquialosremediosyaiza.org
SUMMARY:San Israel
DESCRIPTION:
URL:https://parroquialosremediosyaiza.org/evento/san-israel-2/
CATEGORIES:Santoral
END:VEVENT
BEGIN:VEVENT
DTSTART;VALUE=DATE:20210622
DTEND;VALUE=DATE:20210623
DTSTAMP:20260423T005331
CREATED:20210526T092045Z
LAST-MODIFIED:20210526T092045Z
UID:4322-1624320000-1624406399@parroquialosremediosyaiza.org
SUMMARY:San Paulino de Nola
DESCRIPTION:MISA  19:30 h. Playa Blanca 
URL:https://parroquialosremediosyaiza.org/evento/san-paulino-de-nola-2/
CATEGORIES:Santoral
END:VEVENT
BEGIN:VEVENT
DTSTART;VALUE=DATE:20210621
DTEND;VALUE=DATE:20210622
DTSTAMP:20260423T005331
CREATED:20210526T091940Z
LAST-MODIFIED:20210526T093151Z
UID:4320-1624233600-1624319999@parroquialosremediosyaiza.org
SUMMARY:San Luis Gonzaga
DESCRIPTION:
URL:https://parroquialosremediosyaiza.org/evento/san-luis-gonzaga-2/
CATEGORIES:Santoral
END:VEVENT
BEGIN:VEVENT
DTSTART;VALUE=DATE:20210620
DTEND;VALUE=DATE:20210621
DTSTAMP:20260423T005331
CREATED:20210526T091838Z
LAST-MODIFIED:20210526T091838Z
UID:4318-1624147200-1624233599@parroquialosremediosyaiza.org
SUMMARY:XII TIEMPO ORDINARIO
DESCRIPTION:MISAS: 10 h. -19:30 h. Playa Blanca – 12 h. en Yaiza – 18 h. LAS BREÑAS por S. LUIS GONZAGA
URL:https://parroquialosremediosyaiza.org/evento/xii-tiempo-ordinario/
CATEGORIES:Santoral
END:VEVENT
BEGIN:VEVENT
DTSTART;VALUE=DATE:20210619
DTEND;VALUE=DATE:20210620
DTSTAMP:20260423T005331
CREATED:20210526T091527Z
LAST-MODIFIED:20210526T091527Z
UID:4316-1624060800-1624147199@parroquialosremediosyaiza.org
SUMMARY:San Romualdo
DESCRIPTION:MISA. 18 h.  UGA
URL:https://parroquialosremediosyaiza.org/evento/san-romualdo/
CATEGORIES:Santoral
END:VEVENT
BEGIN:VEVENT
DTSTART;VALUE=DATE:20210618
DTEND;VALUE=DATE:20210619
DTSTAMP:20260423T005331
CREATED:20210526T091436Z
LAST-MODIFIED:20210526T091436Z
UID:4314-1623974400-1624060799@parroquialosremediosyaiza.org
SUMMARY:Santa Marina
DESCRIPTION:
URL:https://parroquialosremediosyaiza.org/evento/santa-marina-2/
CATEGORIES:Santoral
END:VEVENT
BEGIN:VEVENT
DTSTART;VALUE=DATE:20210617
DTEND;VALUE=DATE:20210618
DTSTAMP:20260423T005331
CREATED:20210526T091327Z
LAST-MODIFIED:20210526T091327Z
UID:4312-1623888000-1623974399@parroquialosremediosyaiza.org
SUMMARY:San Ismael y San Samuel
DESCRIPTION:Despacho: 17:30 h.-MISA 19h.  Yaiza
URL:https://parroquialosremediosyaiza.org/evento/san-ismael-y-san-samuel/
CATEGORIES:Santoral
END:VEVENT
BEGIN:VEVENT
DTSTART;VALUE=DATE:20210616
DTEND;VALUE=DATE:20210617
DTSTAMP:20260423T005331
CREATED:20210526T091210Z
LAST-MODIFIED:20210526T091210Z
UID:4310-1623801600-1623887999@parroquialosremediosyaiza.org
SUMMARY:San Aureliano
DESCRIPTION:
URL:https://parroquialosremediosyaiza.org/evento/san-aureliano-2/
CATEGORIES:Santoral
END:VEVENT
BEGIN:VEVENT
DTSTART;VALUE=DATE:20210615
DTEND;VALUE=DATE:20210616
DTSTAMP:20260423T005331
CREATED:20210526T090302Z
LAST-MODIFIED:20210526T091135Z
UID:4308-1623715200-1623801599@parroquialosremediosyaiza.org
SUMMARY:Santa Micaela del Santísimo Sacramento
DESCRIPTION:MISA  19:30 h. Playa Blanca 
URL:https://parroquialosremediosyaiza.org/evento/santa-micaela-del-santisimo-sacramento/
CATEGORIES:Santoral
END:VEVENT
BEGIN:VEVENT
DTSTART;VALUE=DATE:20210614
DTEND;VALUE=DATE:20210615
DTSTAMP:20260423T005331
CREATED:20210526T085952Z
LAST-MODIFIED:20210526T085952Z
UID:4306-1623628800-1623715199@parroquialosremediosyaiza.org
SUMMARY:San Eliseo
DESCRIPTION:
URL:https://parroquialosremediosyaiza.org/evento/san-eliseo/
CATEGORIES:Santoral
END:VEVENT
BEGIN:VEVENT
DTSTART;VALUE=DATE:20210613
DTEND;VALUE=DATE:20210614
DTSTAMP:20260423T005331
CREATED:20210526T085051Z
LAST-MODIFIED:20210526T085244Z
UID:4304-1623542400-1623628799@parroquialosremediosyaiza.org
SUMMARY:XI  TIEMPO ORDINARIO S. Antonio de Padua
DESCRIPTION:MISAS: 10 h. y 19:30 h. Playa Blanca – 12 h. Yaiza – 18 h. Femés
URL:https://parroquialosremediosyaiza.org/evento/xi-tiempo-ordinario-s-antonio-de-padua/
CATEGORIES:Santoral
END:VEVENT
BEGIN:VEVENT
DTSTART;VALUE=DATE:20210612
DTEND;VALUE=DATE:20210613
DTSTAMP:20260423T005331
CREATED:20210526T084920Z
LAST-MODIFIED:20210526T084920Z
UID:4302-1623456000-1623542399@parroquialosremediosyaiza.org
SUMMARY:San León III y San Juan de Sahagún
DESCRIPTION:MISA. 18 h.  UGA  y  19:30 h. LAS BREÑAS                            
URL:https://parroquialosremediosyaiza.org/evento/san-leon-iii-y-san-juan-de-sahagun/
CATEGORIES:Santoral
END:VEVENT
BEGIN:VEVENT
DTSTART;VALUE=DATE:20210611
DTEND;VALUE=DATE:20210612
DTSTAMP:20260423T005331
CREATED:20210526T084749Z
LAST-MODIFIED:20210526T084749Z
UID:4300-1623369600-1623455999@parroquialosremediosyaiza.org
SUMMARY:San Bernabé Apóstol
DESCRIPTION:
URL:https://parroquialosremediosyaiza.org/evento/san-bernabe-apostol-2/
CATEGORIES:Santoral
END:VEVENT
BEGIN:VEVENT
DTSTART;VALUE=DATE:20210610
DTEND;VALUE=DATE:20210611
DTSTAMP:20260423T005331
CREATED:20210526T084612Z
LAST-MODIFIED:20210526T084612Z
UID:4298-1623283200-1623369599@parroquialosremediosyaiza.org
SUMMARY:San Críspulo y San Timoteo
DESCRIPTION:Despacho: 17:30 h.-MISA 19h.  Yaiza
URL:https://parroquialosremediosyaiza.org/evento/san-crispulo-y-san-timoteo/
CATEGORIES:Santoral
END:VEVENT
END:VCALENDAR